BEGIN:VCALENDAR
VERSION:2.0
PRODID:-//Center for Spiritual Living Peninsula - ECPv6.15.10//NONSGML v1.0//EN
CALSCALE:GREGORIAN
METHOD:PUBLISH
X-WR-CALNAME:Center for Spiritual Living Peninsula
X-ORIGINAL-URL:https://cslpeninsula.org
X-WR-CALDESC:Events for Center for Spiritual Living Peninsula
REFRESH-INTERVAL;VALUE=DURATION:PT1H
X-Robots-Tag:noindex
X-PUBLISHED-TTL:PT1H
BEGIN:VTIMEZONE
TZID:UTC
BEGIN:STANDARD
TZOFFSETFROM:+0000
TZOFFSETTO:+0000
TZNAME:UTC
DTSTART:20200101T000000
END:STANDARD
END:VTIMEZONE
BEGIN:VEVENT
DTSTART;TZID=UTC:20211025T183000
DTEND;TZID=UTC:20211025T200000
DTSTAMP:20260424T064632
CREATED:20201007T001726Z
LAST-MODIFIED:20201007T001726Z
UID:8249-1635186600-1635192000@cslpeninsula.org
SUMMARY:Mindfulness Toastmasters
DESCRIPTION:Want to communicate better? Give effective presentations? Feel more at ease at social or business settings? Organize/facilitate successful meetings? Come join Mindfulness Toastmasters\, an uplifting and empowering group using mindful to help you find your voice\, your courage and confidence! Receive valuable feedback and tips. \n\n\n\nToastmasters is being held via online Zoom conference call. Contact Elliotte Mao for connection information\,elliotte.mao@hotmail.com
URL:https://cslpeninsula.org/event/mindfulness-toastmasters-2-2021-10-25/
LOCATION:Online
CATEGORIES:Groups
ATTACH;FMTTYPE=image/jpeg:https://cslpeninsula.org/wp-content/uploads/2020/10/AdobeStock_44333831-1-scaled.jpeg
END:VEVENT
BEGIN:VEVENT
DTSTART;TZID=UTC:20211024T100000
DTEND;TZID=UTC:20211024T110000
DTSTAMP:20260424T064632
CREATED:20200804T182633Z
LAST-MODIFIED:20200804T182633Z
UID:8267-1635069600-1635073200@cslpeninsula.org
SUMMARY:Sunday Service
DESCRIPTION:Join us at 10:00 am every Sunday for a one hour Sunday Service filled with inspirational themes\, music that moves the soul and a sense of community that may bring on an uncontrollable urge to hug someone.
URL:https://cslpeninsula.org/event/sunday-service-2021-10-24/
LOCATION:Online
CATEGORIES:Services
ATTACH;FMTTYPE=image/jpeg:https://cslpeninsula.org/wp-content/uploads/2020/08/hands.jpg
END:VEVENT
BEGIN:VEVENT
DTSTART;TZID=UTC:20211024T093000
DTEND;TZID=UTC:20211024T100000
DTSTAMP:20260424T064632
CREATED:20200804T181617Z
LAST-MODIFIED:20210630T184904Z
UID:8292-1635067800-1635069600@cslpeninsula.org
SUMMARY:Sunday Meditation
DESCRIPTION:Join us every Sunday for group meditation at 9:45 am followed by a one hour Sunday Service.
URL:https://cslpeninsula.org/event/sunday-meditation-2021-05-16-2021-10-24/
LOCATION:Online
CATEGORIES:Services
ATTACH;FMTTYPE=image/jpeg:https://cslpeninsula.org/wp-content/uploads/2020/06/AdobeStock_300432161-scaled.jpeg
END:VEVENT
BEGIN:VEVENT
DTSTART;TZID=UTC:20211017T100000
DTEND;TZID=UTC:20211017T110000
DTSTAMP:20260424T064632
CREATED:20200804T182633Z
LAST-MODIFIED:20200804T182633Z
UID:8266-1634464800-1634468400@cslpeninsula.org
SUMMARY:Sunday Service
DESCRIPTION:Join us at 10:00 am every Sunday for a one hour Sunday Service filled with inspirational themes\, music that moves the soul and a sense of community that may bring on an uncontrollable urge to hug someone.
URL:https://cslpeninsula.org/event/sunday-service-2021-10-17/
LOCATION:Online
CATEGORIES:Services
ATTACH;FMTTYPE=image/jpeg:https://cslpeninsula.org/wp-content/uploads/2020/08/hands.jpg
END:VEVENT
BEGIN:VEVENT
DTSTART;TZID=UTC:20211017T093000
DTEND;TZID=UTC:20211017T100000
DTSTAMP:20260424T064632
CREATED:20200804T181617Z
LAST-MODIFIED:20210630T184903Z
UID:8291-1634463000-1634464800@cslpeninsula.org
SUMMARY:Sunday Meditation
DESCRIPTION:Join us every Sunday for group meditation at 9:45 am followed by a one hour Sunday Service.
URL:https://cslpeninsula.org/event/sunday-meditation-2021-05-16-2021-10-17/
LOCATION:Online
CATEGORIES:Services
ATTACH;FMTTYPE=image/jpeg:https://cslpeninsula.org/wp-content/uploads/2020/06/AdobeStock_300432161-scaled.jpeg
END:VEVENT
BEGIN:VEVENT
DTSTART;TZID=UTC:20211015T190000
DTEND;TZID=UTC:20211015T210000
DTSTAMP:20260424T064632
CREATED:20210731T020000Z
LAST-MODIFIED:20220519T221345Z
UID:8332-1634324400-1634331600@cslpeninsula.org
SUMMARY:Spiritual Cinema
DESCRIPTION:July’s Spiritual Cinema Selection is going to be a SURPRISE! It will be on the 5th Friday for this month only. Thereafter we will continue on the 3rd Friday through Zoom. \n\n\n\nYes. It will still be ONLINE as the world slowly and safely emerges from our Shelter-in-Place. \n\n\n\nSpiritual Cinema of Center for Spiritual Living Peninsula selects films we consider insightful\, uplifting or thought-provoking. Bring your own popcorn. Enjoy the evening in the safety of your home theater. Enjoy the evening in the safety of your Shelter-in-Place home theater. \n\n\n\nThe Zoom link is http://us02web.zoom.us/j/85296182067 \n\n\n\nOr contact elliottemao@hotmail.com
URL:https://cslpeninsula.org/event/spiritual-cinema-2021-10-15/
LOCATION:Online
CATEGORIES:Groups
ATTACH;FMTTYPE=image/jpeg:https://cslpeninsula.org/wp-content/uploads/2020/10/AdobeStock_169555067-scaled.jpeg
END:VEVENT
BEGIN:VEVENT
DTSTART;TZID=UTC:20211011T183000
DTEND;TZID=UTC:20211011T200000
DTSTAMP:20260424T064632
CREATED:20201007T001726Z
LAST-MODIFIED:20210630T184439Z
UID:8243-1633977000-1633982400@cslpeninsula.org
SUMMARY:Mindfulness Toastmasters
DESCRIPTION:Want to communicate better? Give effective presentations? Feel more at ease at social or business settings? Organize/facilitate successful meetings? Come join Mindfulness Toastmasters\, an uplifting and empowering group using mindful to help you find your voice\, your courage and confidence! Receive valuable feedback and tips. \n\n\n\nToastmasters is being held via online Zoom conference call. Contact Elliotte Mao for connection information\,elliotte.mao@hotmail.com
URL:https://cslpeninsula.org/event/mindfulness-toastmasters-2-2021-10-11/
LOCATION:Online
CATEGORIES:Groups
ATTACH;FMTTYPE=image/jpeg:https://cslpeninsula.org/wp-content/uploads/2020/10/AdobeStock_44333831-1-scaled.jpeg
END:VEVENT
BEGIN:VEVENT
DTSTART;TZID=UTC:20211010T100000
DTEND;TZID=UTC:20211010T110000
DTSTAMP:20260424T064632
CREATED:20200804T182633Z
LAST-MODIFIED:20200804T182633Z
UID:8265-1633860000-1633863600@cslpeninsula.org
SUMMARY:Sunday Service
DESCRIPTION:Join us at 10:00 am every Sunday for a one hour Sunday Service filled with inspirational themes\, music that moves the soul and a sense of community that may bring on an uncontrollable urge to hug someone.
URL:https://cslpeninsula.org/event/sunday-service-2021-10-10/
LOCATION:Online
CATEGORIES:Services
ATTACH;FMTTYPE=image/jpeg:https://cslpeninsula.org/wp-content/uploads/2020/08/hands.jpg
END:VEVENT
BEGIN:VEVENT
DTSTART;TZID=UTC:20211010T093000
DTEND;TZID=UTC:20211010T100000
DTSTAMP:20260424T064632
CREATED:20200804T181617Z
LAST-MODIFIED:20210630T184903Z
UID:8290-1633858200-1633860000@cslpeninsula.org
SUMMARY:Sunday Meditation
DESCRIPTION:Join us every Sunday for group meditation at 9:45 am followed by a one hour Sunday Service.
URL:https://cslpeninsula.org/event/sunday-meditation-2021-05-16-2021-10-10/
LOCATION:Online
CATEGORIES:Services
ATTACH;FMTTYPE=image/jpeg:https://cslpeninsula.org/wp-content/uploads/2020/06/AdobeStock_300432161-scaled.jpeg
END:VEVENT
BEGIN:VEVENT
DTSTART;TZID=UTC:20211003T100000
DTEND;TZID=UTC:20211003T110000
DTSTAMP:20260424T064632
CREATED:20200804T182633Z
LAST-MODIFIED:20200804T182633Z
UID:8264-1633255200-1633258800@cslpeninsula.org
SUMMARY:Sunday Service
DESCRIPTION:Join us at 10:00 am every Sunday for a one hour Sunday Service filled with inspirational themes\, music that moves the soul and a sense of community that may bring on an uncontrollable urge to hug someone.
URL:https://cslpeninsula.org/event/sunday-service-2021-10-03/
LOCATION:Online
CATEGORIES:Services
ATTACH;FMTTYPE=image/jpeg:https://cslpeninsula.org/wp-content/uploads/2020/08/hands.jpg
END:VEVENT
BEGIN:VEVENT
DTSTART;TZID=UTC:20211003T093000
DTEND;TZID=UTC:20211003T100000
DTSTAMP:20260424T064632
CREATED:20200804T181617Z
LAST-MODIFIED:20210630T184902Z
UID:8289-1633253400-1633255200@cslpeninsula.org
SUMMARY:Sunday Meditation
DESCRIPTION:Join us every Sunday for group meditation at 9:45 am followed by a one hour Sunday Service.
URL:https://cslpeninsula.org/event/sunday-meditation-2021-05-16-2021-10-03/
LOCATION:Online
CATEGORIES:Services
ATTACH;FMTTYPE=image/jpeg:https://cslpeninsula.org/wp-content/uploads/2020/06/AdobeStock_300432161-scaled.jpeg
END:VEVENT
BEGIN:VEVENT
DTSTART;TZID=UTC:20210927T183000
DTEND;TZID=UTC:20210927T200000
DTSTAMP:20260424T064632
CREATED:20201007T001726Z
LAST-MODIFIED:20201007T001726Z
UID:8248-1632767400-1632772800@cslpeninsula.org
SUMMARY:Mindfulness Toastmasters
DESCRIPTION:Want to communicate better? Give effective presentations? Feel more at ease at social or business settings? Organize/facilitate successful meetings? Come join Mindfulness Toastmasters\, an uplifting and empowering group using mindful to help you find your voice\, your courage and confidence! Receive valuable feedback and tips. \n\n\n\nToastmasters is being held via online Zoom conference call. Contact Elliotte Mao for connection information\,elliotte.mao@hotmail.com
URL:https://cslpeninsula.org/event/mindfulness-toastmasters-2-2021-09-27/
LOCATION:Online
CATEGORIES:Groups
ATTACH;FMTTYPE=image/jpeg:https://cslpeninsula.org/wp-content/uploads/2020/10/AdobeStock_44333831-1-scaled.jpeg
END:VEVENT
BEGIN:VEVENT
DTSTART;TZID=UTC:20210926T100000
DTEND;TZID=UTC:20210926T110000
DTSTAMP:20260424T064632
CREATED:20200804T182633Z
LAST-MODIFIED:20200804T182633Z
UID:8263-1632650400-1632654000@cslpeninsula.org
SUMMARY:Sunday Service
DESCRIPTION:Join us at 10:00 am every Sunday for a one hour Sunday Service filled with inspirational themes\, music that moves the soul and a sense of community that may bring on an uncontrollable urge to hug someone.
URL:https://cslpeninsula.org/event/sunday-service-2021-09-26/
LOCATION:Online
CATEGORIES:Services
ATTACH;FMTTYPE=image/jpeg:https://cslpeninsula.org/wp-content/uploads/2020/08/hands.jpg
END:VEVENT
BEGIN:VEVENT
DTSTART;TZID=UTC:20210926T093000
DTEND;TZID=UTC:20210926T100000
DTSTAMP:20260424T064632
CREATED:20200804T181617Z
LAST-MODIFIED:20210630T184902Z
UID:8288-1632648600-1632650400@cslpeninsula.org
SUMMARY:Sunday Meditation
DESCRIPTION:Join us every Sunday for group meditation at 9:45 am followed by a one hour Sunday Service.
URL:https://cslpeninsula.org/event/sunday-meditation-2021-05-16-2021-09-26/
LOCATION:Online
CATEGORIES:Services
ATTACH;FMTTYPE=image/jpeg:https://cslpeninsula.org/wp-content/uploads/2020/06/AdobeStock_300432161-scaled.jpeg
END:VEVENT
BEGIN:VEVENT
DTSTART;TZID=UTC:20210919T100000
DTEND;TZID=UTC:20210919T110000
DTSTAMP:20260424T064632
CREATED:20200804T182633Z
LAST-MODIFIED:20200804T182633Z
UID:8262-1632045600-1632049200@cslpeninsula.org
SUMMARY:Sunday Service
DESCRIPTION:Join us at 10:00 am every Sunday for a one hour Sunday Service filled with inspirational themes\, music that moves the soul and a sense of community that may bring on an uncontrollable urge to hug someone.
URL:https://cslpeninsula.org/event/sunday-service-2021-09-19/
LOCATION:Online
CATEGORIES:Services
ATTACH;FMTTYPE=image/jpeg:https://cslpeninsula.org/wp-content/uploads/2020/08/hands.jpg
END:VEVENT
BEGIN:VEVENT
DTSTART;TZID=UTC:20210919T093000
DTEND;TZID=UTC:20210919T100000
DTSTAMP:20260424T064632
CREATED:20200804T181617Z
LAST-MODIFIED:20210630T184901Z
UID:8287-1632043800-1632045600@cslpeninsula.org
SUMMARY:Sunday Meditation
DESCRIPTION:Join us every Sunday for group meditation at 9:45 am followed by a one hour Sunday Service.
URL:https://cslpeninsula.org/event/sunday-meditation-2021-05-16-2021-09-19/
LOCATION:Online
CATEGORIES:Services
ATTACH;FMTTYPE=image/jpeg:https://cslpeninsula.org/wp-content/uploads/2020/06/AdobeStock_300432161-scaled.jpeg
END:VEVENT
BEGIN:VEVENT
DTSTART;TZID=UTC:20210917T190000
DTEND;TZID=UTC:20210917T210000
DTSTAMP:20260424T064632
CREATED:20210731T020000Z
LAST-MODIFIED:20220519T221345Z
UID:8331-1631905200-1631912400@cslpeninsula.org
SUMMARY:Spiritual Cinema
DESCRIPTION:July’s Spiritual Cinema Selection is going to be a SURPRISE! It will be on the 5th Friday for this month only. Thereafter we will continue on the 3rd Friday through Zoom. \n\n\n\nYes. It will still be ONLINE as the world slowly and safely emerges from our Shelter-in-Place. \n\n\n\nSpiritual Cinema of Center for Spiritual Living Peninsula selects films we consider insightful\, uplifting or thought-provoking. Bring your own popcorn. Enjoy the evening in the safety of your home theater. Enjoy the evening in the safety of your Shelter-in-Place home theater. \n\n\n\nThe Zoom link is http://us02web.zoom.us/j/85296182067 \n\n\n\nOr contact elliottemao@hotmail.com
URL:https://cslpeninsula.org/event/spiritual-cinema-2021-09-17/
LOCATION:Online
CATEGORIES:Groups
ATTACH;FMTTYPE=image/jpeg:https://cslpeninsula.org/wp-content/uploads/2020/10/AdobeStock_169555067-scaled.jpeg
END:VEVENT
BEGIN:VEVENT
DTSTART;TZID=UTC:20210913T183000
DTEND;TZID=UTC:20210913T200000
DTSTAMP:20260424T064632
CREATED:20201007T001726Z
LAST-MODIFIED:20210630T184439Z
UID:8242-1631557800-1631563200@cslpeninsula.org
SUMMARY:Mindfulness Toastmasters
DESCRIPTION:Want to communicate better? Give effective presentations? Feel more at ease at social or business settings? Organize/facilitate successful meetings? Come join Mindfulness Toastmasters\, an uplifting and empowering group using mindful to help you find your voice\, your courage and confidence! Receive valuable feedback and tips. \n\n\n\nToastmasters is being held via online Zoom conference call. Contact Elliotte Mao for connection information\,elliotte.mao@hotmail.com
URL:https://cslpeninsula.org/event/mindfulness-toastmasters-2-2021-09-13/
LOCATION:Online
CATEGORIES:Groups
ATTACH;FMTTYPE=image/jpeg:https://cslpeninsula.org/wp-content/uploads/2020/10/AdobeStock_44333831-1-scaled.jpeg
END:VEVENT
BEGIN:VEVENT
DTSTART;TZID=UTC:20210912T100000
DTEND;TZID=UTC:20210912T110000
DTSTAMP:20260424T064632
CREATED:20200804T182633Z
LAST-MODIFIED:20200804T182633Z
UID:8261-1631440800-1631444400@cslpeninsula.org
SUMMARY:Sunday Service
DESCRIPTION:Join us at 10:00 am every Sunday for a one hour Sunday Service filled with inspirational themes\, music that moves the soul and a sense of community that may bring on an uncontrollable urge to hug someone.
URL:https://cslpeninsula.org/event/sunday-service-2021-09-12/
LOCATION:Online
CATEGORIES:Services
ATTACH;FMTTYPE=image/jpeg:https://cslpeninsula.org/wp-content/uploads/2020/08/hands.jpg
END:VEVENT
BEGIN:VEVENT
DTSTART;TZID=UTC:20210912T093000
DTEND;TZID=UTC:20210912T100000
DTSTAMP:20260424T064632
CREATED:20200804T181617Z
LAST-MODIFIED:20210630T184857Z
UID:8286-1631439000-1631440800@cslpeninsula.org
SUMMARY:Sunday Meditation
DESCRIPTION:Join us every Sunday for group meditation at 9:45 am followed by a one hour Sunday Service.
URL:https://cslpeninsula.org/event/sunday-meditation-2021-05-16-2021-09-12/
LOCATION:Online
CATEGORIES:Services
ATTACH;FMTTYPE=image/jpeg:https://cslpeninsula.org/wp-content/uploads/2020/06/AdobeStock_300432161-scaled.jpeg
END:VEVENT
BEGIN:VEVENT
DTSTART;TZID=UTC:20210905T100000
DTEND;TZID=UTC:20210905T110000
DTSTAMP:20260424T064632
CREATED:20200804T182633Z
LAST-MODIFIED:20200804T182633Z
UID:8260-1630836000-1630839600@cslpeninsula.org
SUMMARY:Sunday Service
DESCRIPTION:Join us at 10:00 am every Sunday for a one hour Sunday Service filled with inspirational themes\, music that moves the soul and a sense of community that may bring on an uncontrollable urge to hug someone.
URL:https://cslpeninsula.org/event/sunday-service-2021-09-05/
LOCATION:Online
CATEGORIES:Services
ATTACH;FMTTYPE=image/jpeg:https://cslpeninsula.org/wp-content/uploads/2020/08/hands.jpg
END:VEVENT
BEGIN:VEVENT
DTSTART;TZID=UTC:20210905T093000
DTEND;TZID=UTC:20210905T100000
DTSTAMP:20260424T064632
CREATED:20200804T181617Z
LAST-MODIFIED:20210630T184857Z
UID:8285-1630834200-1630836000@cslpeninsula.org
SUMMARY:Sunday Meditation
DESCRIPTION:Join us every Sunday for group meditation at 9:45 am followed by a one hour Sunday Service.
URL:https://cslpeninsula.org/event/sunday-meditation-2021-05-16-2021-09-05/
LOCATION:Online
CATEGORIES:Services
ATTACH;FMTTYPE=image/jpeg:https://cslpeninsula.org/wp-content/uploads/2020/06/AdobeStock_300432161-scaled.jpeg
END:VEVENT
BEGIN:VEVENT
DTSTART;TZID=UTC:20210829T100000
DTEND;TZID=UTC:20210829T110000
DTSTAMP:20260424T064632
CREATED:20200804T182633Z
LAST-MODIFIED:20200804T182633Z
UID:8259-1630231200-1630234800@cslpeninsula.org
SUMMARY:Sunday Service
DESCRIPTION:Join us at 10:00 am every Sunday for a one hour Sunday Service filled with inspirational themes\, music that moves the soul and a sense of community that may bring on an uncontrollable urge to hug someone.
URL:https://cslpeninsula.org/event/sunday-service-2021-08-29/
LOCATION:Online
CATEGORIES:Services
ATTACH;FMTTYPE=image/jpeg:https://cslpeninsula.org/wp-content/uploads/2020/08/hands.jpg
END:VEVENT
BEGIN:VEVENT
DTSTART;TZID=UTC:20210829T093000
DTEND;TZID=UTC:20210829T100000
DTSTAMP:20260424T064632
CREATED:20200804T181617Z
LAST-MODIFIED:20210630T184856Z
UID:8284-1630229400-1630231200@cslpeninsula.org
SUMMARY:Sunday Meditation
DESCRIPTION:Join us every Sunday for group meditation at 9:45 am followed by a one hour Sunday Service.
URL:https://cslpeninsula.org/event/sunday-meditation-2021-05-16-2021-08-29/
LOCATION:Online
CATEGORIES:Services
ATTACH;FMTTYPE=image/jpeg:https://cslpeninsula.org/wp-content/uploads/2020/06/AdobeStock_300432161-scaled.jpeg
END:VEVENT
BEGIN:VEVENT
DTSTART;TZID=UTC:20210823T183000
DTEND;TZID=UTC:20210823T200000
DTSTAMP:20260424T064632
CREATED:20201007T001726Z
LAST-MODIFIED:20201007T001726Z
UID:8247-1629743400-1629748800@cslpeninsula.org
SUMMARY:Mindfulness Toastmasters
DESCRIPTION:Want to communicate better? Give effective presentations? Feel more at ease at social or business settings? Organize/facilitate successful meetings? Come join Mindfulness Toastmasters\, an uplifting and empowering group using mindful to help you find your voice\, your courage and confidence! Receive valuable feedback and tips. \n\n\n\nToastmasters is being held via online Zoom conference call. Contact Elliotte Mao for connection information\,elliotte.mao@hotmail.com
URL:https://cslpeninsula.org/event/mindfulness-toastmasters-2-2021-08-23/
LOCATION:Online
CATEGORIES:Groups
ATTACH;FMTTYPE=image/jpeg:https://cslpeninsula.org/wp-content/uploads/2020/10/AdobeStock_44333831-1-scaled.jpeg
END:VEVENT
BEGIN:VEVENT
DTSTART;TZID=UTC:20210822T100000
DTEND;TZID=UTC:20210822T110000
DTSTAMP:20260424T064632
CREATED:20200804T182633Z
LAST-MODIFIED:20200804T182633Z
UID:8258-1629626400-1629630000@cslpeninsula.org
SUMMARY:Sunday Service
DESCRIPTION:Join us at 10:00 am every Sunday for a one hour Sunday Service filled with inspirational themes\, music that moves the soul and a sense of community that may bring on an uncontrollable urge to hug someone.
URL:https://cslpeninsula.org/event/sunday-service-2021-08-22/
LOCATION:Online
CATEGORIES:Services
ATTACH;FMTTYPE=image/jpeg:https://cslpeninsula.org/wp-content/uploads/2020/08/hands.jpg
END:VEVENT
BEGIN:VEVENT
DTSTART;TZID=UTC:20210822T093000
DTEND;TZID=UTC:20210822T100000
DTSTAMP:20260424T064632
CREATED:20200804T181617Z
LAST-MODIFIED:20210630T184856Z
UID:8283-1629624600-1629626400@cslpeninsula.org
SUMMARY:Sunday Meditation
DESCRIPTION:Join us every Sunday for group meditation at 9:45 am followed by a one hour Sunday Service.
URL:https://cslpeninsula.org/event/sunday-meditation-2021-05-16-2021-08-22/
LOCATION:Online
CATEGORIES:Services
ATTACH;FMTTYPE=image/jpeg:https://cslpeninsula.org/wp-content/uploads/2020/06/AdobeStock_300432161-scaled.jpeg
END:VEVENT
BEGIN:VEVENT
DTSTART;TZID=UTC:20210820T190000
DTEND;TZID=UTC:20210820T210000
DTSTAMP:20260424T064632
CREATED:20210731T020000Z
LAST-MODIFIED:20220519T221344Z
UID:8330-1629486000-1629493200@cslpeninsula.org
SUMMARY:Spiritual Cinema
DESCRIPTION:July’s Spiritual Cinema Selection is going to be a SURPRISE! It will be on the 5th Friday for this month only. Thereafter we will continue on the 3rd Friday through Zoom. \n\n\n\nYes. It will still be ONLINE as the world slowly and safely emerges from our Shelter-in-Place. \n\n\n\nSpiritual Cinema of Center for Spiritual Living Peninsula selects films we consider insightful\, uplifting or thought-provoking. Bring your own popcorn. Enjoy the evening in the safety of your home theater. Enjoy the evening in the safety of your Shelter-in-Place home theater. \n\n\n\nThe Zoom link is http://us02web.zoom.us/j/85296182067 \n\n\n\nOr contact elliottemao@hotmail.com
URL:https://cslpeninsula.org/event/spiritual-cinema-2021-08-20/
LOCATION:Online
CATEGORIES:Groups
ATTACH;FMTTYPE=image/jpeg:https://cslpeninsula.org/wp-content/uploads/2020/10/AdobeStock_169555067-scaled.jpeg
END:VEVENT
BEGIN:VEVENT
DTSTART;TZID=UTC:20210815T100000
DTEND;TZID=UTC:20210815T110000
DTSTAMP:20260424T064632
CREATED:20200804T182633Z
LAST-MODIFIED:20200804T182633Z
UID:8257-1629021600-1629025200@cslpeninsula.org
SUMMARY:Sunday Service
DESCRIPTION:Join us at 10:00 am every Sunday for a one hour Sunday Service filled with inspirational themes\, music that moves the soul and a sense of community that may bring on an uncontrollable urge to hug someone.
URL:https://cslpeninsula.org/event/sunday-service-2021-08-15/
LOCATION:Online
CATEGORIES:Services
ATTACH;FMTTYPE=image/jpeg:https://cslpeninsula.org/wp-content/uploads/2020/08/hands.jpg
END:VEVENT
BEGIN:VEVENT
DTSTART;TZID=UTC:20210815T093000
DTEND;TZID=UTC:20210815T100000
DTSTAMP:20260424T064632
CREATED:20200804T181617Z
LAST-MODIFIED:20210630T184855Z
UID:8282-1629019800-1629021600@cslpeninsula.org
SUMMARY:Sunday Meditation
DESCRIPTION:Join us every Sunday for group meditation at 9:45 am followed by a one hour Sunday Service.
URL:https://cslpeninsula.org/event/sunday-meditation-2021-05-16-2021-08-15/
LOCATION:Online
CATEGORIES:Services
ATTACH;FMTTYPE=image/jpeg:https://cslpeninsula.org/wp-content/uploads/2020/06/AdobeStock_300432161-scaled.jpeg
END:VEVENT
END:VCALENDAR