BEGIN:VCALENDAR
VERSION:2.0
PRODID:-//Center for Spiritual Living Peninsula - ECPv6.15.10//NONSGML v1.0//EN
CALSCALE:GREGORIAN
METHOD:PUBLISH
X-WR-CALNAME:Center for Spiritual Living Peninsula
X-ORIGINAL-URL:https://cslpeninsula.org
X-WR-CALDESC:Events for Center for Spiritual Living Peninsula
REFRESH-INTERVAL;VALUE=DURATION:PT1H
X-Robots-Tag:noindex
X-PUBLISHED-TTL:PT1H
BEGIN:VTIMEZONE
TZID:America/Los_Angeles
BEGIN:DAYLIGHT
TZOFFSETFROM:-0800
TZOFFSETTO:-0700
TZNAME:PDT
DTSTART:20210314T100000
END:DAYLIGHT
BEGIN:STANDARD
TZOFFSETFROM:-0700
TZOFFSETTO:-0800
TZNAME:PST
DTSTART:20211107T090000
END:STANDARD
BEGIN:DAYLIGHT
TZOFFSETFROM:-0800
TZOFFSETTO:-0700
TZNAME:PDT
DTSTART:20220313T100000
END:DAYLIGHT
BEGIN:STANDARD
TZOFFSETFROM:-0700
TZOFFSETTO:-0800
TZNAME:PST
DTSTART:20221106T090000
END:STANDARD
BEGIN:DAYLIGHT
TZOFFSETFROM:-0800
TZOFFSETTO:-0700
TZNAME:PDT
DTSTART:20230312T100000
END:DAYLIGHT
BEGIN:STANDARD
TZOFFSETFROM:-0700
TZOFFSETTO:-0800
TZNAME:PST
DTSTART:20231105T090000
END:STANDARD
END:VTIMEZONE
BEGIN:VTIMEZONE
TZID:UTC
BEGIN:STANDARD
TZOFFSETFROM:+0000
TZOFFSETTO:+0000
TZNAME:UTC
DTSTART:20200101T000000
END:STANDARD
END:VTIMEZONE
BEGIN:VEVENT
DTSTART;TZID=America/Los_Angeles:20220317T181500
DTEND;TZID=America/Los_Angeles:20220317T203000
DTSTAMP:20260424T015122
CREATED:20220204T021500Z
LAST-MODIFIED:20220201T233850Z
UID:8446-1647540900-1647549000@cslpeninsula.org
SUMMARY:Revealing Wholeness:  SOM Accredited Class
DESCRIPTION:Join us in 2022 for the new Science of Mind Foundations Class\, facilitated by Rev. Carolyn Douglas  \n\n\n\n\nStarting: February 3\, 2022 \n\n\n\n6:15 – 8:30 pm\, 8 weeks \n\n\n\nRequired Books:  \n\n\n\nScience of Mind by Ernest HolmesMind Over Medicine by Dr. Lissa Rankin \n\n\n\n\n \n\n\n\nThis course is a dynamic course that offers the Science of Mind foundational principles and offers them in a new format for new students and those unfamiliar with Science of Mind. Topics include Oneness\, Spiritual Mind Treatment\, the reciprocal universe\, the Creative Process\, hidden beliefs\, and other essential principles \n\n\n\n\n\n \n\n\n\nClick Here for Registration and Payment Form \n\n\n\nOnline class: Log-in information will follow!
URL:https://cslpeninsula.org/event/revealing-wholeness-2022-03-17/
CATEGORIES:Classes
ATTACH;FMTTYPE=image/jpeg:https://cslpeninsula.org/wp-content/uploads/2021/05/A-classroom.jpg
END:VEVENT
BEGIN:VEVENT
DTSTART;TZID=America/Los_Angeles:20220310T181500
DTEND;TZID=America/Los_Angeles:20220310T203000
DTSTAMP:20260424T015122
CREATED:20220204T021500Z
LAST-MODIFIED:20220201T233849Z
UID:8445-1646936100-1646944200@cslpeninsula.org
SUMMARY:Revealing Wholeness:  SOM Accredited Class
DESCRIPTION:Join us in 2022 for the new Science of Mind Foundations Class\, facilitated by Rev. Carolyn Douglas  \n\n\n\n\nStarting: February 3\, 2022 \n\n\n\n6:15 – 8:30 pm\, 8 weeks \n\n\n\nRequired Books:  \n\n\n\nScience of Mind by Ernest HolmesMind Over Medicine by Dr. Lissa Rankin \n\n\n\n\n \n\n\n\nThis course is a dynamic course that offers the Science of Mind foundational principles and offers them in a new format for new students and those unfamiliar with Science of Mind. Topics include Oneness\, Spiritual Mind Treatment\, the reciprocal universe\, the Creative Process\, hidden beliefs\, and other essential principles \n\n\n\n\n\n \n\n\n\nClick Here for Registration and Payment Form \n\n\n\nOnline class: Log-in information will follow!
URL:https://cslpeninsula.org/event/revealing-wholeness-2022-03-10/
CATEGORIES:Classes
ATTACH;FMTTYPE=image/jpeg:https://cslpeninsula.org/wp-content/uploads/2021/05/A-classroom.jpg
END:VEVENT
BEGIN:VEVENT
DTSTART;TZID=America/Los_Angeles:20220303T181500
DTEND;TZID=America/Los_Angeles:20220303T203000
DTSTAMP:20260424T015122
CREATED:20220204T021500Z
LAST-MODIFIED:20220201T233848Z
UID:8444-1646331300-1646339400@cslpeninsula.org
SUMMARY:Revealing Wholeness:  SOM Accredited Class
DESCRIPTION:Join us in 2022 for the new Science of Mind Foundations Class\, facilitated by Rev. Carolyn Douglas  \n\n\n\n\nStarting: February 3\, 2022 \n\n\n\n6:15 – 8:30 pm\, 8 weeks \n\n\n\nRequired Books:  \n\n\n\nScience of Mind by Ernest HolmesMind Over Medicine by Dr. Lissa Rankin \n\n\n\n\n \n\n\n\nThis course is a dynamic course that offers the Science of Mind foundational principles and offers them in a new format for new students and those unfamiliar with Science of Mind. Topics include Oneness\, Spiritual Mind Treatment\, the reciprocal universe\, the Creative Process\, hidden beliefs\, and other essential principles \n\n\n\n\n\n \n\n\n\nClick Here for Registration and Payment Form \n\n\n\nOnline class: Log-in information will follow!
URL:https://cslpeninsula.org/event/revealing-wholeness-2022-03-03/
CATEGORIES:Classes
ATTACH;FMTTYPE=image/jpeg:https://cslpeninsula.org/wp-content/uploads/2021/05/A-classroom.jpg
END:VEVENT
BEGIN:VEVENT
DTSTART;TZID=America/Los_Angeles:20220224T181500
DTEND;TZID=America/Los_Angeles:20220224T203000
DTSTAMP:20260424T015122
CREATED:20220204T021500Z
LAST-MODIFIED:20220201T233848Z
UID:8443-1645726500-1645734600@cslpeninsula.org
SUMMARY:Revealing Wholeness:  SOM Accredited Class
DESCRIPTION:Join us in 2022 for the new Science of Mind Foundations Class\, facilitated by Rev. Carolyn Douglas  \n\n\n\n\nStarting: February 3\, 2022 \n\n\n\n6:15 – 8:30 pm\, 8 weeks \n\n\n\nRequired Books:  \n\n\n\nScience of Mind by Ernest HolmesMind Over Medicine by Dr. Lissa Rankin \n\n\n\n\n \n\n\n\nThis course is a dynamic course that offers the Science of Mind foundational principles and offers them in a new format for new students and those unfamiliar with Science of Mind. Topics include Oneness\, Spiritual Mind Treatment\, the reciprocal universe\, the Creative Process\, hidden beliefs\, and other essential principles \n\n\n\n\n\n \n\n\n\nClick Here for Registration and Payment Form \n\n\n\nOnline class: Log-in information will follow!
URL:https://cslpeninsula.org/event/revealing-wholeness-2022-02-24/
CATEGORIES:Classes
ATTACH;FMTTYPE=image/jpeg:https://cslpeninsula.org/wp-content/uploads/2021/05/A-classroom.jpg
END:VEVENT
BEGIN:VEVENT
DTSTART;TZID=America/Los_Angeles:20220217T181500
DTEND;TZID=America/Los_Angeles:20220217T203000
DTSTAMP:20260424T015122
CREATED:20220204T021500Z
LAST-MODIFIED:20220201T233847Z
UID:8442-1645121700-1645129800@cslpeninsula.org
SUMMARY:Revealing Wholeness:  SOM Accredited Class
DESCRIPTION:Join us in 2022 for the new Science of Mind Foundations Class\, facilitated by Rev. Carolyn Douglas  \n\n\n\n\nStarting: February 3\, 2022 \n\n\n\n6:15 – 8:30 pm\, 8 weeks \n\n\n\nRequired Books:  \n\n\n\nScience of Mind by Ernest HolmesMind Over Medicine by Dr. Lissa Rankin \n\n\n\n\n \n\n\n\nThis course is a dynamic course that offers the Science of Mind foundational principles and offers them in a new format for new students and those unfamiliar with Science of Mind. Topics include Oneness\, Spiritual Mind Treatment\, the reciprocal universe\, the Creative Process\, hidden beliefs\, and other essential principles \n\n\n\n\n\n \n\n\n\nClick Here for Registration and Payment Form \n\n\n\nOnline class: Log-in information will follow!
URL:https://cslpeninsula.org/event/revealing-wholeness-2022-02-17/
CATEGORIES:Classes
ATTACH;FMTTYPE=image/jpeg:https://cslpeninsula.org/wp-content/uploads/2021/05/A-classroom.jpg
END:VEVENT
BEGIN:VEVENT
DTSTART;TZID=America/Los_Angeles:20220210T181500
DTEND;TZID=America/Los_Angeles:20220210T203000
DTSTAMP:20260424T015122
CREATED:20220204T021500Z
LAST-MODIFIED:20220201T233847Z
UID:8441-1644516900-1644525000@cslpeninsula.org
SUMMARY:Revealing Wholeness:  SOM Accredited Class
DESCRIPTION:Join us in 2022 for the new Science of Mind Foundations Class\, facilitated by Rev. Carolyn Douglas  \n\n\n\n\nStarting: February 3\, 2022 \n\n\n\n6:15 – 8:30 pm\, 8 weeks \n\n\n\nRequired Books:  \n\n\n\nScience of Mind by Ernest HolmesMind Over Medicine by Dr. Lissa Rankin \n\n\n\n\n \n\n\n\nThis course is a dynamic course that offers the Science of Mind foundational principles and offers them in a new format for new students and those unfamiliar with Science of Mind. Topics include Oneness\, Spiritual Mind Treatment\, the reciprocal universe\, the Creative Process\, hidden beliefs\, and other essential principles \n\n\n\n\n\n \n\n\n\nClick Here for Registration and Payment Form \n\n\n\nOnline class: Log-in information will follow!
URL:https://cslpeninsula.org/event/revealing-wholeness-2022-02-10/
CATEGORIES:Classes
ATTACH;FMTTYPE=image/jpeg:https://cslpeninsula.org/wp-content/uploads/2021/05/A-classroom.jpg
END:VEVENT
BEGIN:VEVENT
DTSTART;TZID=America/Los_Angeles:20220203T181500
DTEND;TZID=America/Los_Angeles:20220203T203000
DTSTAMP:20260424T015122
CREATED:20211216T214059Z
LAST-MODIFIED:20220201T233850Z
UID:8377-1643912100-1643920200@cslpeninsula.org
SUMMARY:Revealing Wholeness:  SOM Accredited Class
DESCRIPTION:Join us in 2022 for the new Science of Mind Foundations Class\, facilitated by Rev. Carolyn Douglas  \n\n\n\n\nStarting: February 3\, 2022 \n\n\n\n6:15 – 8:30 pm\, 8 weeks \n\n\n\nRequired Books:  \n\n\n\nScience of Mind by Ernest HolmesMind Over Medicine by Dr. Lissa Rankin \n\n\n\n\n \n\n\n\nThis course is a dynamic course that offers the Science of Mind foundational principles and offers them in a new format for new students and those unfamiliar with Science of Mind. Topics include Oneness\, Spiritual Mind Treatment\, the reciprocal universe\, the Creative Process\, hidden beliefs\, and other essential principles \n\n\n\n\n\n \n\n\n\nClick Here for Registration and Payment Form \n\n\n\nOnline class: Log-in information will follow!
URL:https://cslpeninsula.org/event/revealing-wholeness/
CATEGORIES:Classes
ATTACH;FMTTYPE=image/jpeg:https://cslpeninsula.org/wp-content/uploads/2021/05/A-classroom.jpg
END:VEVENT
BEGIN:VEVENT
DTSTART;TZID=UTC:20211227T183000
DTEND;TZID=UTC:20211227T200000
DTSTAMP:20260424T015122
CREATED:20201007T001726Z
LAST-MODIFIED:20201007T001726Z
UID:8251-1640629800-1640635200@cslpeninsula.org
SUMMARY:Mindfulness Toastmasters
DESCRIPTION:Want to communicate better? Give effective presentations? Feel more at ease at social or business settings? Organize/facilitate successful meetings? Come join Mindfulness Toastmasters\, an uplifting and empowering group using mindful to help you find your voice\, your courage and confidence! Receive valuable feedback and tips. \n\n\n\nToastmasters is being held via online Zoom conference call. Contact Elliotte Mao for connection information\,elliotte.mao@hotmail.com
URL:https://cslpeninsula.org/event/mindfulness-toastmasters-2-2021-12-27/
LOCATION:Online
CATEGORIES:Groups
ATTACH;FMTTYPE=image/jpeg:https://cslpeninsula.org/wp-content/uploads/2020/10/AdobeStock_44333831-1-scaled.jpeg
END:VEVENT
BEGIN:VEVENT
DTSTART;TZID=UTC:20211226T100000
DTEND;TZID=UTC:20211226T110000
DTSTAMP:20260424T015122
CREATED:20200804T182633Z
LAST-MODIFIED:20200804T182633Z
UID:8276-1640512800-1640516400@cslpeninsula.org
SUMMARY:Sunday Service
DESCRIPTION:Join us at 10:00 am every Sunday for a one hour Sunday Service filled with inspirational themes\, music that moves the soul and a sense of community that may bring on an uncontrollable urge to hug someone.
URL:https://cslpeninsula.org/event/sunday-service-2021-12-26/
LOCATION:Online
CATEGORIES:Services
ATTACH;FMTTYPE=image/jpeg:https://cslpeninsula.org/wp-content/uploads/2020/08/hands.jpg
END:VEVENT
BEGIN:VEVENT
DTSTART;TZID=UTC:20211226T093000
DTEND;TZID=UTC:20211226T100000
DTSTAMP:20260424T015122
CREATED:20200804T181617Z
LAST-MODIFIED:20210706T151710Z
UID:8301-1640511000-1640512800@cslpeninsula.org
SUMMARY:Sunday Meditation
DESCRIPTION:Join us every Sunday for group meditation at 9:45 am followed by a one-hour Sunday Service. \n\n\n\nSee us at our new location or online:\n\n\n\nRedwood City Woman’s Club149 Clinton StreetRedwood City\, California
URL:https://cslpeninsula.org/event/sunday-meditation-2021-05-16-2021-12-26/
LOCATION:Online
CATEGORIES:Services
ATTACH;FMTTYPE=image/jpeg:https://cslpeninsula.org/wp-content/uploads/2020/06/AdobeStock_300432161-scaled.jpeg
END:VEVENT
BEGIN:VEVENT
DTSTART;TZID=UTC:20211219T100000
DTEND;TZID=UTC:20211219T110000
DTSTAMP:20260424T015122
CREATED:20200804T182633Z
LAST-MODIFIED:20200804T182633Z
UID:8275-1639908000-1639911600@cslpeninsula.org
SUMMARY:Sunday Service
DESCRIPTION:Join us at 10:00 am every Sunday for a one hour Sunday Service filled with inspirational themes\, music that moves the soul and a sense of community that may bring on an uncontrollable urge to hug someone.
URL:https://cslpeninsula.org/event/sunday-service-2021-12-19/
LOCATION:Online
CATEGORIES:Services
ATTACH;FMTTYPE=image/jpeg:https://cslpeninsula.org/wp-content/uploads/2020/08/hands.jpg
END:VEVENT
BEGIN:VEVENT
DTSTART;TZID=UTC:20211219T093000
DTEND;TZID=UTC:20211219T100000
DTSTAMP:20260424T015122
CREATED:20200804T181617Z
LAST-MODIFIED:20210630T184910Z
UID:8300-1639906200-1639908000@cslpeninsula.org
SUMMARY:Sunday Meditation
DESCRIPTION:Join us every Sunday for group meditation at 9:45 am followed by a one hour Sunday Service.
URL:https://cslpeninsula.org/event/sunday-meditation-2021-05-16-2021-12-19/
LOCATION:Online
CATEGORIES:Services
ATTACH;FMTTYPE=image/jpeg:https://cslpeninsula.org/wp-content/uploads/2020/06/AdobeStock_300432161-scaled.jpeg
END:VEVENT
BEGIN:VEVENT
DTSTART;TZID=UTC:20211217T190000
DTEND;TZID=UTC:20211217T210000
DTSTAMP:20260424T015122
CREATED:20210731T020000Z
LAST-MODIFIED:20220519T221347Z
UID:8334-1639767600-1639774800@cslpeninsula.org
SUMMARY:Spiritual Cinema
DESCRIPTION:July’s Spiritual Cinema Selection is going to be a SURPRISE! It will be on the 5th Friday for this month only. Thereafter we will continue on the 3rd Friday through Zoom. \n\n\n\nYes. It will still be ONLINE as the world slowly and safely emerges from our Shelter-in-Place. \n\n\n\nSpiritual Cinema of Center for Spiritual Living Peninsula selects films we consider insightful\, uplifting or thought-provoking. Bring your own popcorn. Enjoy the evening in the safety of your home theater. Enjoy the evening in the safety of your Shelter-in-Place home theater. \n\n\n\nThe Zoom link is http://us02web.zoom.us/j/85296182067 \n\n\n\nOr contact elliottemao@hotmail.com
URL:https://cslpeninsula.org/event/spiritual-cinema-2021-12-17/
LOCATION:Online
CATEGORIES:Groups
ATTACH;FMTTYPE=image/jpeg:https://cslpeninsula.org/wp-content/uploads/2020/10/AdobeStock_169555067-scaled.jpeg
END:VEVENT
BEGIN:VEVENT
DTSTART;TZID=UTC:20211213T183000
DTEND;TZID=UTC:20211213T200000
DTSTAMP:20260424T015122
CREATED:20201007T001726Z
LAST-MODIFIED:20201007T001726Z
UID:8245-1639420200-1639425600@cslpeninsula.org
SUMMARY:Mindfulness Toastmasters
DESCRIPTION:Want to communicate better? Give effective presentations? Feel more at ease at social or business settings? Organize/facilitate successful meetings? Come join Mindfulness Toastmasters\, an uplifting and empowering group using mindful to help you find your voice\, your courage and confidence! Receive valuable feedback and tips. \n\n\n\nToastmasters is being held via online Zoom conference call. Contact Elliotte Mao for connection information\,elliotte.mao@hotmail.com
URL:https://cslpeninsula.org/event/mindfulness-toastmasters-2-2021-12-13/
LOCATION:Online
CATEGORIES:Groups
ATTACH;FMTTYPE=image/jpeg:https://cslpeninsula.org/wp-content/uploads/2020/10/AdobeStock_44333831-1-scaled.jpeg
END:VEVENT
BEGIN:VEVENT
DTSTART;TZID=UTC:20211212T100000
DTEND;TZID=UTC:20211212T110000
DTSTAMP:20260424T015122
CREATED:20200804T182633Z
LAST-MODIFIED:20200804T182633Z
UID:8274-1639303200-1639306800@cslpeninsula.org
SUMMARY:Sunday Service
DESCRIPTION:Join us at 10:00 am every Sunday for a one hour Sunday Service filled with inspirational themes\, music that moves the soul and a sense of community that may bring on an uncontrollable urge to hug someone.
URL:https://cslpeninsula.org/event/sunday-service-2021-12-12/
LOCATION:Online
CATEGORIES:Services
ATTACH;FMTTYPE=image/jpeg:https://cslpeninsula.org/wp-content/uploads/2020/08/hands.jpg
END:VEVENT
BEGIN:VEVENT
DTSTART;TZID=UTC:20211212T093000
DTEND;TZID=UTC:20211212T100000
DTSTAMP:20260424T015122
CREATED:20200804T181617Z
LAST-MODIFIED:20210630T184910Z
UID:8299-1639301400-1639303200@cslpeninsula.org
SUMMARY:Sunday Meditation
DESCRIPTION:Join us every Sunday for group meditation at 9:45 am followed by a one hour Sunday Service.
URL:https://cslpeninsula.org/event/sunday-meditation-2021-05-16-2021-12-12/
LOCATION:Online
CATEGORIES:Services
ATTACH;FMTTYPE=image/jpeg:https://cslpeninsula.org/wp-content/uploads/2020/06/AdobeStock_300432161-scaled.jpeg
END:VEVENT
BEGIN:VEVENT
DTSTART;TZID=UTC:20211205T100000
DTEND;TZID=UTC:20211205T110000
DTSTAMP:20260424T015122
CREATED:20200804T182633Z
LAST-MODIFIED:20200804T182633Z
UID:8273-1638698400-1638702000@cslpeninsula.org
SUMMARY:Sunday Service
DESCRIPTION:Join us at 10:00 am every Sunday for a one hour Sunday Service filled with inspirational themes\, music that moves the soul and a sense of community that may bring on an uncontrollable urge to hug someone.
URL:https://cslpeninsula.org/event/sunday-service-2021-12-05/
LOCATION:Online
CATEGORIES:Services
ATTACH;FMTTYPE=image/jpeg:https://cslpeninsula.org/wp-content/uploads/2020/08/hands.jpg
END:VEVENT
BEGIN:VEVENT
DTSTART;TZID=UTC:20211205T093000
DTEND;TZID=UTC:20211205T100000
DTSTAMP:20260424T015122
CREATED:20200804T181617Z
LAST-MODIFIED:20210630T184909Z
UID:8298-1638696600-1638698400@cslpeninsula.org
SUMMARY:Sunday Meditation
DESCRIPTION:Join us every Sunday for group meditation at 9:45 am followed by a one hour Sunday Service.
URL:https://cslpeninsula.org/event/sunday-meditation-2021-05-16-2021-12-05/
LOCATION:Online
CATEGORIES:Services
ATTACH;FMTTYPE=image/jpeg:https://cslpeninsula.org/wp-content/uploads/2020/06/AdobeStock_300432161-scaled.jpeg
END:VEVENT
BEGIN:VEVENT
DTSTART;TZID=UTC:20211128T100000
DTEND;TZID=UTC:20211128T110000
DTSTAMP:20260424T015122
CREATED:20200804T182633Z
LAST-MODIFIED:20200804T182633Z
UID:8272-1638093600-1638097200@cslpeninsula.org
SUMMARY:Sunday Service
DESCRIPTION:Join us at 10:00 am every Sunday for a one hour Sunday Service filled with inspirational themes\, music that moves the soul and a sense of community that may bring on an uncontrollable urge to hug someone.
URL:https://cslpeninsula.org/event/sunday-service-2021-11-28/
LOCATION:Online
CATEGORIES:Services
ATTACH;FMTTYPE=image/jpeg:https://cslpeninsula.org/wp-content/uploads/2020/08/hands.jpg
END:VEVENT
BEGIN:VEVENT
DTSTART;TZID=UTC:20211128T093000
DTEND;TZID=UTC:20211128T100000
DTSTAMP:20260424T015122
CREATED:20200804T181617Z
LAST-MODIFIED:20210630T184909Z
UID:8297-1638091800-1638093600@cslpeninsula.org
SUMMARY:Sunday Meditation
DESCRIPTION:Join us every Sunday for group meditation at 9:45 am followed by a one hour Sunday Service.
URL:https://cslpeninsula.org/event/sunday-meditation-2021-05-16-2021-11-28/
LOCATION:Online
CATEGORIES:Services
ATTACH;FMTTYPE=image/jpeg:https://cslpeninsula.org/wp-content/uploads/2020/06/AdobeStock_300432161-scaled.jpeg
END:VEVENT
BEGIN:VEVENT
DTSTART;TZID=UTC:20211122T183000
DTEND;TZID=UTC:20211122T200000
DTSTAMP:20260424T015122
CREATED:20201007T001726Z
LAST-MODIFIED:20201007T001726Z
UID:8250-1637605800-1637611200@cslpeninsula.org
SUMMARY:Mindfulness Toastmasters
DESCRIPTION:Want to communicate better? Give effective presentations? Feel more at ease at social or business settings? Organize/facilitate successful meetings? Come join Mindfulness Toastmasters\, an uplifting and empowering group using mindful to help you find your voice\, your courage and confidence! Receive valuable feedback and tips. \n\n\n\nToastmasters is being held via online Zoom conference call. Contact Elliotte Mao for connection information\,elliotte.mao@hotmail.com
URL:https://cslpeninsula.org/event/mindfulness-toastmasters-2-2021-11-22/
LOCATION:Online
CATEGORIES:Groups
ATTACH;FMTTYPE=image/jpeg:https://cslpeninsula.org/wp-content/uploads/2020/10/AdobeStock_44333831-1-scaled.jpeg
END:VEVENT
BEGIN:VEVENT
DTSTART;TZID=UTC:20211121T093000
DTEND;TZID=UTC:20211121T100000
DTSTAMP:20260424T015122
CREATED:20200804T181617Z
LAST-MODIFIED:20210630T184906Z
UID:8296-1637487000-1637488800@cslpeninsula.org
SUMMARY:Sunday Meditation
DESCRIPTION:Join us every Sunday for group meditation at 9:45 am followed by a one hour Sunday Service.
URL:https://cslpeninsula.org/event/sunday-meditation-2021-05-16-2021-11-21/
LOCATION:Online
CATEGORIES:Services
ATTACH;FMTTYPE=image/jpeg:https://cslpeninsula.org/wp-content/uploads/2020/06/AdobeStock_300432161-scaled.jpeg
END:VEVENT
BEGIN:VEVENT
DTSTART;TZID=UTC:20211119T190000
DTEND;TZID=UTC:20211119T210000
DTSTAMP:20260424T015122
CREATED:20210731T020000Z
LAST-MODIFIED:20220519T221346Z
UID:8333-1637348400-1637355600@cslpeninsula.org
SUMMARY:Spiritual Cinema
DESCRIPTION:July’s Spiritual Cinema Selection is going to be a SURPRISE! It will be on the 5th Friday for this month only. Thereafter we will continue on the 3rd Friday through Zoom. \n\n\n\nYes. It will still be ONLINE as the world slowly and safely emerges from our Shelter-in-Place. \n\n\n\nSpiritual Cinema of Center for Spiritual Living Peninsula selects films we consider insightful\, uplifting or thought-provoking. Bring your own popcorn. Enjoy the evening in the safety of your home theater. Enjoy the evening in the safety of your Shelter-in-Place home theater. \n\n\n\nThe Zoom link is http://us02web.zoom.us/j/85296182067 \n\n\n\nOr contact elliottemao@hotmail.com
URL:https://cslpeninsula.org/event/spiritual-cinema-2021-11-19/
LOCATION:Online
CATEGORIES:Groups
ATTACH;FMTTYPE=image/jpeg:https://cslpeninsula.org/wp-content/uploads/2020/10/AdobeStock_169555067-scaled.jpeg
END:VEVENT
BEGIN:VEVENT
DTSTART;TZID=UTC:20211114T100000
DTEND;TZID=UTC:20211114T110000
DTSTAMP:20260424T015122
CREATED:20200804T182633Z
LAST-MODIFIED:20200804T182633Z
UID:8270-1636884000-1636887600@cslpeninsula.org
SUMMARY:Sunday Service
DESCRIPTION:Join us at 10:00 am every Sunday for a one hour Sunday Service filled with inspirational themes\, music that moves the soul and a sense of community that may bring on an uncontrollable urge to hug someone.
URL:https://cslpeninsula.org/event/sunday-service-2021-11-14/
LOCATION:Online
CATEGORIES:Services
ATTACH;FMTTYPE=image/jpeg:https://cslpeninsula.org/wp-content/uploads/2020/08/hands.jpg
END:VEVENT
BEGIN:VEVENT
DTSTART;TZID=UTC:20211114T093000
DTEND;TZID=UTC:20211114T100000
DTSTAMP:20260424T015122
CREATED:20200804T181617Z
LAST-MODIFIED:20210630T184905Z
UID:8295-1636882200-1636884000@cslpeninsula.org
SUMMARY:Sunday Meditation
DESCRIPTION:Join us every Sunday for group meditation at 9:45 am followed by a one hour Sunday Service.
URL:https://cslpeninsula.org/event/sunday-meditation-2021-05-16-2021-11-14/
LOCATION:Online
CATEGORIES:Services
ATTACH;FMTTYPE=image/jpeg:https://cslpeninsula.org/wp-content/uploads/2020/06/AdobeStock_300432161-scaled.jpeg
END:VEVENT
BEGIN:VEVENT
DTSTART;TZID=UTC:20211108T183000
DTEND;TZID=UTC:20211108T200000
DTSTAMP:20260424T015122
CREATED:20201007T001726Z
LAST-MODIFIED:20210630T184440Z
UID:8244-1636396200-1636401600@cslpeninsula.org
SUMMARY:Mindfulness Toastmasters
DESCRIPTION:Want to communicate better? Give effective presentations? Feel more at ease at social or business settings? Organize/facilitate successful meetings? Come join Mindfulness Toastmasters\, an uplifting and empowering group using mindful to help you find your voice\, your courage and confidence! Receive valuable feedback and tips. \n\n\n\nToastmasters is being held via online Zoom conference call. Contact Elliotte Mao for connection information\,elliotte.mao@hotmail.com
URL:https://cslpeninsula.org/event/mindfulness-toastmasters-2-2021-11-08/
LOCATION:Online
CATEGORIES:Groups
ATTACH;FMTTYPE=image/jpeg:https://cslpeninsula.org/wp-content/uploads/2020/10/AdobeStock_44333831-1-scaled.jpeg
END:VEVENT
BEGIN:VEVENT
DTSTART;TZID=UTC:20211107T100000
DTEND;TZID=UTC:20211107T110000
DTSTAMP:20260424T015122
CREATED:20200804T182633Z
LAST-MODIFIED:20200804T182633Z
UID:8269-1636279200-1636282800@cslpeninsula.org
SUMMARY:Sunday Service
DESCRIPTION:Join us at 10:00 am every Sunday for a one hour Sunday Service filled with inspirational themes\, music that moves the soul and a sense of community that may bring on an uncontrollable urge to hug someone.
URL:https://cslpeninsula.org/event/sunday-service-2021-11-07/
LOCATION:Online
CATEGORIES:Services
ATTACH;FMTTYPE=image/jpeg:https://cslpeninsula.org/wp-content/uploads/2020/08/hands.jpg
END:VEVENT
BEGIN:VEVENT
DTSTART;TZID=UTC:20211107T093000
DTEND;TZID=UTC:20211107T100000
DTSTAMP:20260424T015122
CREATED:20200804T181617Z
LAST-MODIFIED:20210630T184905Z
UID:8294-1636277400-1636279200@cslpeninsula.org
SUMMARY:Sunday Meditation
DESCRIPTION:Join us every Sunday for group meditation at 9:45 am followed by a one hour Sunday Service.
URL:https://cslpeninsula.org/event/sunday-meditation-2021-05-16-2021-11-07/
LOCATION:Online
CATEGORIES:Services
ATTACH;FMTTYPE=image/jpeg:https://cslpeninsula.org/wp-content/uploads/2020/06/AdobeStock_300432161-scaled.jpeg
END:VEVENT
BEGIN:VEVENT
DTSTART;TZID=UTC:20211031T100000
DTEND;TZID=UTC:20211031T110000
DTSTAMP:20260424T015122
CREATED:20200804T182633Z
LAST-MODIFIED:20200804T182633Z
UID:8268-1635674400-1635678000@cslpeninsula.org
SUMMARY:Sunday Service
DESCRIPTION:Join us at 10:00 am every Sunday for a one hour Sunday Service filled with inspirational themes\, music that moves the soul and a sense of community that may bring on an uncontrollable urge to hug someone.
URL:https://cslpeninsula.org/event/sunday-service-2021-10-31/
LOCATION:Online
CATEGORIES:Services
ATTACH;FMTTYPE=image/jpeg:https://cslpeninsula.org/wp-content/uploads/2020/08/hands.jpg
END:VEVENT
BEGIN:VEVENT
DTSTART;TZID=UTC:20211031T093000
DTEND;TZID=UTC:20211031T100000
DTSTAMP:20260424T015122
CREATED:20200804T181617Z
LAST-MODIFIED:20210630T184904Z
UID:8293-1635672600-1635674400@cslpeninsula.org
SUMMARY:Sunday Meditation
DESCRIPTION:Join us every Sunday for group meditation at 9:45 am followed by a one hour Sunday Service.
URL:https://cslpeninsula.org/event/sunday-meditation-2021-05-16-2021-10-31/
LOCATION:Online
CATEGORIES:Services
ATTACH;FMTTYPE=image/jpeg:https://cslpeninsula.org/wp-content/uploads/2020/06/AdobeStock_300432161-scaled.jpeg
END:VEVENT
END:VCALENDAR