BEGIN:VCALENDAR
VERSION:2.0
PRODID:-//Center for Spiritual Living Peninsula - ECPv6.15.10//NONSGML v1.0//EN
CALSCALE:GREGORIAN
METHOD:PUBLISH
X-WR-CALNAME:Center for Spiritual Living Peninsula
X-ORIGINAL-URL:https://cslpeninsula.org
X-WR-CALDESC:Events for Center for Spiritual Living Peninsula
REFRESH-INTERVAL;VALUE=DURATION:PT1H
X-Robots-Tag:noindex
X-PUBLISHED-TTL:PT1H
BEGIN:VTIMEZONE
TZID:America/Los_Angeles
BEGIN:DAYLIGHT
TZOFFSETFROM:-0800
TZOFFSETTO:-0700
TZNAME:PDT
DTSTART:20190310T100000
END:DAYLIGHT
BEGIN:STANDARD
TZOFFSETFROM:-0700
TZOFFSETTO:-0800
TZNAME:PST
DTSTART:20191103T090000
END:STANDARD
BEGIN:DAYLIGHT
TZOFFSETFROM:-0800
TZOFFSETTO:-0700
TZNAME:PDT
DTSTART:20200308T100000
END:DAYLIGHT
BEGIN:STANDARD
TZOFFSETFROM:-0700
TZOFFSETTO:-0800
TZNAME:PST
DTSTART:20201101T090000
END:STANDARD
BEGIN:DAYLIGHT
TZOFFSETFROM:-0800
TZOFFSETTO:-0700
TZNAME:PDT
DTSTART:20210314T100000
END:DAYLIGHT
BEGIN:STANDARD
TZOFFSETFROM:-0700
TZOFFSETTO:-0800
TZNAME:PST
DTSTART:20211107T090000
END:STANDARD
BEGIN:DAYLIGHT
TZOFFSETFROM:-0800
TZOFFSETTO:-0700
TZNAME:PDT
DTSTART:20220313T100000
END:DAYLIGHT
BEGIN:STANDARD
TZOFFSETFROM:-0700
TZOFFSETTO:-0800
TZNAME:PST
DTSTART:20221106T090000
END:STANDARD
END:VTIMEZONE
BEGIN:VTIMEZONE
TZID:UTC
BEGIN:STANDARD
TZOFFSETFROM:+0000
TZOFFSETTO:+0000
TZNAME:UTC
DTSTART:20190101T000000
END:STANDARD
END:VTIMEZONE
BEGIN:VEVENT
DTSTART;TZID=America/Los_Angeles:20210203T190000
DTEND;TZID=America/Los_Angeles:20210203T210000
DTSTAMP:20260424T192929
CREATED:20210121T204152Z
LAST-MODIFIED:20210126T234151Z
UID:8090-1612378800-1612386000@cslpeninsula.org
SUMMARY:"A" is for "A Course in Miracles" and "Abraham"
DESCRIPTION:What happens when you combine the wisdom of ACIM (A Course in Miracles) with Abraham-Hicks (Law of Attraction).  \n\n\n\nYou will receive the miracles you ask for! Join us for an empowering 7-week series exploring the principles of these two wise Teachers to address issues such as Fear\, Change\, Money\, Relationships\, Health\, Death\, This World!Facilitator Elliotte Mao is a student of the Course for 20 yehars and an Abraham-Hicks devotee. \n\n\n\nFor more information contact Elliottte Mao at elliottemao@hotmail.com or (650) 868-3745. Currently ONLINE.  \n\n\n\nTo register\, visit http://form.jotform.com/210169023944149 \n\n\n\n \n\n\n\n$140 for the series or $25 drop-in
URL:https://cslpeninsula.org/event/a-is-for-a-course-in-miracles-and-abraham-2021-02-03/
LOCATION:Online
CATEGORIES:Classes,Workshops
ATTACH;FMTTYPE=image/png:https://cslpeninsula.org/wp-content/uploads/2021/01/course.png
END:VEVENT
BEGIN:VEVENT
DTSTART;TZID=UTC:20210131T093000
DTEND;TZID=UTC:20210131T100000
DTSTAMP:20260424T192929
CREATED:20200804T181617Z
LAST-MODIFIED:20210126T234558Z
UID:7923-1612085400-1612087200@cslpeninsula.org
SUMMARY:Sunday Meditation
DESCRIPTION:Join us every Sunday for group meditation at 9:45 am followed by a one hour Sunday Service.
URL:https://cslpeninsula.org/event/sunday-meditation-2021-01-31/
LOCATION:Online
CATEGORIES:Services
ATTACH;FMTTYPE=image/jpeg:https://cslpeninsula.org/wp-content/uploads/2020/06/AdobeStock_300432161-scaled.jpeg
END:VEVENT
BEGIN:VEVENT
DTSTART;TZID=America/Los_Angeles:20210130T120000
DTEND;TZID=America/Los_Angeles:20210130T143000
DTSTAMP:20260424T192929
CREATED:20201116T173934Z
LAST-MODIFIED:20210126T234315Z
UID:8037-1612008000-1612017000@cslpeninsula.org
SUMMARY:5 Gifts for an Abundant Life
DESCRIPTION:Create a consciousness of wealth with gratitude\, intentions\, forgiving\, tithing\, surrender.  Class book is 5 GIFTS for an Abundant Life by Diane Harmony. Participant manual will be provided digitally. For additional information\, please send an email to Rev. Carolyn at revcarolyn@clspeninsual.org.  Register here for the class.
URL:https://cslpeninsula.org/event/5-gifts-for-an-abundant-life-2021-01-30/
LOCATION:Online
CATEGORIES:Classes
ATTACH;FMTTYPE=image/jpeg:https://cslpeninsula.org/wp-content/uploads/2020/11/Lotus-flower-e1605548284132.jpg
END:VEVENT
BEGIN:VEVENT
DTSTART;TZID=America/Los_Angeles:20210127T190000
DTEND;TZID=America/Los_Angeles:20210127T210000
DTSTAMP:20260424T192929
CREATED:20210121T204152Z
LAST-MODIFIED:20210126T234154Z
UID:8088-1611774000-1611781200@cslpeninsula.org
SUMMARY:"A" is for "A Course in Miracles" and "Abraham"
DESCRIPTION:What happens when you combine the wisdom of ACIM (A Course in Miracles) with Abraham-Hicks (Law of Attraction).  \n\n\n\nYou will receive the miracles you ask for! Join us for an empowering 7-week series exploring the principles of these two wise Teachers to address issues such as Fear\, Change\, Money\, Relationships\, Health\, Death\, This World!Facilitator Elliotte Mao is a student of the Course for 20 yehars and an Abraham-Hicks devotee. \n\n\n\nFor more information contact Elliottte Mao at elliottemao@hotmail.com or (650) 868-3745. Currently ONLINE.  \n\n\n\nTo register\, visit http://form.jotform.com/210169023944149 \n\n\n\n \n\n\n\n$140 for the series or $25 drop-in
URL:https://cslpeninsula.org/event/a-is-for-a-course-in-miracles-and-abraham/
LOCATION:Online
CATEGORIES:Classes,Workshops
ATTACH;FMTTYPE=image/png:https://cslpeninsula.org/wp-content/uploads/2021/01/course.png
END:VEVENT
BEGIN:VEVENT
DTSTART;TZID=America/Los_Angeles:20210127T130000
DTEND;TZID=America/Los_Angeles:20210127T140000
DTSTAMP:20260424T192929
CREATED:20200804T183259Z
LAST-MODIFIED:20201103T163627Z
UID:8005-1611752400-1611756000@cslpeninsula.org
SUMMARY:Midweek Spiritual Boost
DESCRIPTION:This forum was created as a response to the Pandemic for spiritual support to our community. It is free flowing with a loose agenda allowing participants to share what their concerns and celebrations are.  There is an opening prayer and meditation in the beginning and prayer at the end affirming all prayer requests from the participants. \n\n\n\nWednesdays 1-2 pmAccess: http://zoom.us/j/942479233. The meeting ID is 942 479 233.
URL:https://cslpeninsula.org/event/midweek-spiritual-boost-2021-01-27/
ATTACH;FMTTYPE=image/jpeg:https://cslpeninsula.org/wp-content/uploads/2020/05/heart-with-yellow-flowers-1-scaled.jpeg
END:VEVENT
BEGIN:VEVENT
DTSTART;TZID=UTC:20210124T093000
DTEND;TZID=UTC:20210124T100000
DTSTAMP:20260424T192929
CREATED:20200804T181617Z
LAST-MODIFIED:20210126T234557Z
UID:7922-1611480600-1611482400@cslpeninsula.org
SUMMARY:Sunday Meditation
DESCRIPTION:Join us every Sunday for group meditation at 9:45 am followed by a one hour Sunday Service.
URL:https://cslpeninsula.org/event/sunday-meditation-2021-01-24/
LOCATION:Online
CATEGORIES:Services
ATTACH;FMTTYPE=image/jpeg:https://cslpeninsula.org/wp-content/uploads/2020/06/AdobeStock_300432161-scaled.jpeg
END:VEVENT
BEGIN:VEVENT
DTSTART;TZID=America/Los_Angeles:20210123T120000
DTEND;TZID=America/Los_Angeles:20210123T143000
DTSTAMP:20260424T192929
CREATED:20201116T173934Z
LAST-MODIFIED:20210126T234315Z
UID:8036-1611403200-1611412200@cslpeninsula.org
SUMMARY:5 Gifts for an Abundant Life
DESCRIPTION:Create a consciousness of wealth with gratitude\, intentions\, forgiving\, tithing\, surrender.  Class book is 5 GIFTS for an Abundant Life by Diane Harmony. Participant manual will be provided digitally. For additional information\, please send an email to Rev. Carolyn at revcarolyn@clspeninsual.org.  Register here for the class.
URL:https://cslpeninsula.org/event/5-gifts-for-an-abundant-life-2021-01-23/
LOCATION:Online
CATEGORIES:Classes
ATTACH;FMTTYPE=image/jpeg:https://cslpeninsula.org/wp-content/uploads/2020/11/Lotus-flower-e1605548284132.jpg
END:VEVENT
BEGIN:VEVENT
DTSTART;TZID=America/Los_Angeles:20210120T130000
DTEND;TZID=America/Los_Angeles:20210120T140000
DTSTAMP:20260424T192929
CREATED:20200804T183259Z
LAST-MODIFIED:20201103T163627Z
UID:8004-1611147600-1611151200@cslpeninsula.org
SUMMARY:Midweek Spiritual Boost
DESCRIPTION:This forum was created as a response to the Pandemic for spiritual support to our community. It is free flowing with a loose agenda allowing participants to share what their concerns and celebrations are.  There is an opening prayer and meditation in the beginning and prayer at the end affirming all prayer requests from the participants. \n\n\n\nWednesdays 1-2 pmAccess: http://zoom.us/j/942479233. The meeting ID is 942 479 233.
URL:https://cslpeninsula.org/event/midweek-spiritual-boost-2021-01-20/
ATTACH;FMTTYPE=image/jpeg:https://cslpeninsula.org/wp-content/uploads/2020/05/heart-with-yellow-flowers-1-scaled.jpeg
END:VEVENT
BEGIN:VEVENT
DTSTART;TZID=UTC:20210117T093000
DTEND;TZID=UTC:20210117T100000
DTSTAMP:20260424T192929
CREATED:20200804T181617Z
LAST-MODIFIED:20210126T234557Z
UID:7921-1610875800-1610877600@cslpeninsula.org
SUMMARY:Sunday Meditation
DESCRIPTION:Join us every Sunday for group meditation at 9:45 am followed by a one hour Sunday Service.
URL:https://cslpeninsula.org/event/sunday-meditation-2021-01-17/
LOCATION:Online
CATEGORIES:Services
ATTACH;FMTTYPE=image/jpeg:https://cslpeninsula.org/wp-content/uploads/2020/06/AdobeStock_300432161-scaled.jpeg
END:VEVENT
BEGIN:VEVENT
DTSTART;TZID=America/Los_Angeles:20210116T120000
DTEND;TZID=America/Los_Angeles:20210116T143000
DTSTAMP:20260424T192929
CREATED:20201116T173934Z
LAST-MODIFIED:20210126T234314Z
UID:8035-1610798400-1610807400@cslpeninsula.org
SUMMARY:5 Gifts for an Abundant Life
DESCRIPTION:Create a consciousness of wealth with gratitude\, intentions\, forgiving\, tithing\, surrender.  Class book is 5 GIFTS for an Abundant Life by Diane Harmony. Participant manual will be provided digitally. For additional information\, please send an email to Rev. Carolyn at revcarolyn@clspeninsual.org.  Register here for the class.
URL:https://cslpeninsula.org/event/5-gifts-for-an-abundant-life-2021-01-16/
LOCATION:Online
CATEGORIES:Classes
ATTACH;FMTTYPE=image/jpeg:https://cslpeninsula.org/wp-content/uploads/2020/11/Lotus-flower-e1605548284132.jpg
END:VEVENT
BEGIN:VEVENT
DTSTART;TZID=America/Los_Angeles:20210113T130000
DTEND;TZID=America/Los_Angeles:20210113T140000
DTSTAMP:20260424T192929
CREATED:20200804T183259Z
LAST-MODIFIED:20201103T163626Z
UID:8003-1610542800-1610546400@cslpeninsula.org
SUMMARY:Midweek Spiritual Boost
DESCRIPTION:This forum was created as a response to the Pandemic for spiritual support to our community. It is free flowing with a loose agenda allowing participants to share what their concerns and celebrations are.  There is an opening prayer and meditation in the beginning and prayer at the end affirming all prayer requests from the participants. \n\n\n\nWednesdays 1-2 pmAccess: http://zoom.us/j/942479233. The meeting ID is 942 479 233.
URL:https://cslpeninsula.org/event/midweek-spiritual-boost-2021-01-13/
ATTACH;FMTTYPE=image/jpeg:https://cslpeninsula.org/wp-content/uploads/2020/05/heart-with-yellow-flowers-1-scaled.jpeg
END:VEVENT
BEGIN:VEVENT
DTSTART;TZID=UTC:20210110T093000
DTEND;TZID=UTC:20210110T100000
DTSTAMP:20260424T192929
CREATED:20200804T181617Z
LAST-MODIFIED:20210126T234557Z
UID:7920-1610271000-1610272800@cslpeninsula.org
SUMMARY:Sunday Meditation
DESCRIPTION:Join us every Sunday for group meditation at 9:45 am followed by a one hour Sunday Service.
URL:https://cslpeninsula.org/event/sunday-meditation-2021-01-10/
LOCATION:Online
CATEGORIES:Services
ATTACH;FMTTYPE=image/jpeg:https://cslpeninsula.org/wp-content/uploads/2020/06/AdobeStock_300432161-scaled.jpeg
END:VEVENT
BEGIN:VEVENT
DTSTART;TZID=America/Los_Angeles:20210109T120000
DTEND;TZID=America/Los_Angeles:20210109T143000
DTSTAMP:20260424T192929
CREATED:20201116T173934Z
LAST-MODIFIED:20210126T234314Z
UID:8034-1610193600-1610202600@cslpeninsula.org
SUMMARY:5 Gifts for an Abundant Life
DESCRIPTION:Create a consciousness of wealth with gratitude\, intentions\, forgiving\, tithing\, surrender.  Class book is 5 GIFTS for an Abundant Life by Diane Harmony. Participant manual will be provided digitally. For additional information\, please send an email to Rev. Carolyn at revcarolyn@clspeninsual.org.  Register here for the class.
URL:https://cslpeninsula.org/event/5-gifts-for-an-abundant-life-2021-01-09/
LOCATION:Online
CATEGORIES:Classes
ATTACH;FMTTYPE=image/jpeg:https://cslpeninsula.org/wp-content/uploads/2020/11/Lotus-flower-e1605548284132.jpg
END:VEVENT
BEGIN:VEVENT
DTSTART;TZID=America/Los_Angeles:20210106T130000
DTEND;TZID=America/Los_Angeles:20210106T140000
DTSTAMP:20260424T192929
CREATED:20200804T183259Z
LAST-MODIFIED:20201103T163626Z
UID:8002-1609938000-1609941600@cslpeninsula.org
SUMMARY:Midweek Spiritual Boost
DESCRIPTION:This forum was created as a response to the Pandemic for spiritual support to our community. It is free flowing with a loose agenda allowing participants to share what their concerns and celebrations are.  There is an opening prayer and meditation in the beginning and prayer at the end affirming all prayer requests from the participants. \n\n\n\nWednesdays 1-2 pmAccess: http://zoom.us/j/942479233. The meeting ID is 942 479 233.
URL:https://cslpeninsula.org/event/midweek-spiritual-boost-2021-01-06/
ATTACH;FMTTYPE=image/jpeg:https://cslpeninsula.org/wp-content/uploads/2020/05/heart-with-yellow-flowers-1-scaled.jpeg
END:VEVENT
BEGIN:VEVENT
DTSTART;TZID=UTC:20210103T093000
DTEND;TZID=UTC:20210103T100000
DTSTAMP:20260424T192929
CREATED:20200804T181617Z
LAST-MODIFIED:20210126T234557Z
UID:7919-1609666200-1609668000@cslpeninsula.org
SUMMARY:Sunday Meditation
DESCRIPTION:Join us every Sunday for group meditation at 9:45 am followed by a one hour Sunday Service.
URL:https://cslpeninsula.org/event/sunday-meditation-2021-01-03/
LOCATION:Online
CATEGORIES:Services
ATTACH;FMTTYPE=image/jpeg:https://cslpeninsula.org/wp-content/uploads/2020/06/AdobeStock_300432161-scaled.jpeg
END:VEVENT
BEGIN:VEVENT
DTSTART;TZID=America/Los_Angeles:20210102T120000
DTEND;TZID=America/Los_Angeles:20210102T143000
DTSTAMP:20260424T192929
CREATED:20201116T173934Z
LAST-MODIFIED:20210126T234314Z
UID:8033-1609588800-1609597800@cslpeninsula.org
SUMMARY:5 Gifts for an Abundant Life
DESCRIPTION:Create a consciousness of wealth with gratitude\, intentions\, forgiving\, tithing\, surrender.  Class book is 5 GIFTS for an Abundant Life by Diane Harmony. Participant manual will be provided digitally. For additional information\, please send an email to Rev. Carolyn at revcarolyn@clspeninsual.org.  Register here for the class.
URL:https://cslpeninsula.org/event/5-gifts-for-an-abundant-life-2021-01-02/
LOCATION:Online
CATEGORIES:Classes
ATTACH;FMTTYPE=image/jpeg:https://cslpeninsula.org/wp-content/uploads/2020/11/Lotus-flower-e1605548284132.jpg
END:VEVENT
BEGIN:VEVENT
DTSTART;TZID=America/Los_Angeles:20201230T130000
DTEND;TZID=America/Los_Angeles:20201230T140000
DTSTAMP:20260424T192929
CREATED:20200804T183259Z
LAST-MODIFIED:20201103T163626Z
UID:8001-1609333200-1609336800@cslpeninsula.org
SUMMARY:Midweek Spiritual Boost
DESCRIPTION:This forum was created as a response to the Pandemic for spiritual support to our community. It is free flowing with a loose agenda allowing participants to share what their concerns and celebrations are.  There is an opening prayer and meditation in the beginning and prayer at the end affirming all prayer requests from the participants. \n\n\n\nWednesdays 1-2 pmAccess: http://zoom.us/j/942479233. The meeting ID is 942 479 233.
URL:https://cslpeninsula.org/event/midweek-spiritual-boost-2020-12-30/
ATTACH;FMTTYPE=image/jpeg:https://cslpeninsula.org/wp-content/uploads/2020/05/heart-with-yellow-flowers-1-scaled.jpeg
END:VEVENT
BEGIN:VEVENT
DTSTART;TZID=UTC:20201227T093000
DTEND;TZID=UTC:20201227T100000
DTSTAMP:20260424T192929
CREATED:20200804T181617Z
LAST-MODIFIED:20210126T234555Z
UID:7824-1609061400-1609063200@cslpeninsula.org
SUMMARY:Sunday Meditation
DESCRIPTION:Join us every Sunday for group meditation at 9:45 am followed by a one hour Sunday Service.
URL:https://cslpeninsula.org/event/sunday-meditation-2020-12-27/
LOCATION:Online
CATEGORIES:Services
ATTACH;FMTTYPE=image/jpeg:https://cslpeninsula.org/wp-content/uploads/2020/06/AdobeStock_300432161-scaled.jpeg
END:VEVENT
BEGIN:VEVENT
DTSTART;TZID=America/Los_Angeles:20201226T120000
DTEND;TZID=America/Los_Angeles:20201226T143000
DTSTAMP:20260424T192929
CREATED:20201116T173934Z
LAST-MODIFIED:20210126T234314Z
UID:8032-1608984000-1608993000@cslpeninsula.org
SUMMARY:5 Gifts for an Abundant Life
DESCRIPTION:Create a consciousness of wealth with gratitude\, intentions\, forgiving\, tithing\, surrender.  Class book is 5 GIFTS for an Abundant Life by Diane Harmony. Participant manual will be provided digitally. For additional information\, please send an email to Rev. Carolyn at revcarolyn@clspeninsual.org.  Register here for the class.
URL:https://cslpeninsula.org/event/5-gifts-for-an-abundant-life-2020-12-26/
LOCATION:Online
CATEGORIES:Classes
ATTACH;FMTTYPE=image/jpeg:https://cslpeninsula.org/wp-content/uploads/2020/11/Lotus-flower-e1605548284132.jpg
END:VEVENT
BEGIN:VEVENT
DTSTART;TZID=America/Los_Angeles:20201223T130000
DTEND;TZID=America/Los_Angeles:20201223T140000
DTSTAMP:20260424T192929
CREATED:20200804T183259Z
LAST-MODIFIED:20201103T163624Z
UID:8000-1608728400-1608732000@cslpeninsula.org
SUMMARY:Midweek Spiritual Boost
DESCRIPTION:This forum was created as a response to the Pandemic for spiritual support to our community. It is free flowing with a loose agenda allowing participants to share what their concerns and celebrations are.  There is an opening prayer and meditation in the beginning and prayer at the end affirming all prayer requests from the participants. \n\n\n\nWednesdays 1-2 pmAccess: http://zoom.us/j/942479233. The meeting ID is 942 479 233.
URL:https://cslpeninsula.org/event/midweek-spiritual-boost-2020-12-23/
ATTACH;FMTTYPE=image/jpeg:https://cslpeninsula.org/wp-content/uploads/2020/05/heart-with-yellow-flowers-1-scaled.jpeg
END:VEVENT
BEGIN:VEVENT
DTSTART;TZID=UTC:20201220T093000
DTEND;TZID=UTC:20201220T100000
DTSTAMP:20260424T192929
CREATED:20200804T181617Z
LAST-MODIFIED:20210126T234555Z
UID:7776-1608456600-1608458400@cslpeninsula.org
SUMMARY:Sunday Meditation
DESCRIPTION:Join us every Sunday for group meditation at 9:45 am followed by a one hour Sunday Service.
URL:https://cslpeninsula.org/event/sunday-meditation-2020-12-20/
LOCATION:Online
CATEGORIES:Services
ATTACH;FMTTYPE=image/jpeg:https://cslpeninsula.org/wp-content/uploads/2020/06/AdobeStock_300432161-scaled.jpeg
END:VEVENT
BEGIN:VEVENT
DTSTART;TZID=America/Los_Angeles:20201219T120000
DTEND;TZID=America/Los_Angeles:20201219T143000
DTSTAMP:20260424T192929
CREATED:20201116T173934Z
LAST-MODIFIED:20210126T234313Z
UID:8031-1608379200-1608388200@cslpeninsula.org
SUMMARY:5 Gifts for an Abundant Life
DESCRIPTION:Create a consciousness of wealth with gratitude\, intentions\, forgiving\, tithing\, surrender.  Class book is 5 GIFTS for an Abundant Life by Diane Harmony. Participant manual will be provided digitally. For additional information\, please send an email to Rev. Carolyn at revcarolyn@clspeninsual.org.  Register here for the class.
URL:https://cslpeninsula.org/event/5-gifts-for-an-abundant-life-2020-12-19/
LOCATION:Online
CATEGORIES:Classes
ATTACH;FMTTYPE=image/jpeg:https://cslpeninsula.org/wp-content/uploads/2020/11/Lotus-flower-e1605548284132.jpg
END:VEVENT
BEGIN:VEVENT
DTSTART;TZID=America/Los_Angeles:20201216T130000
DTEND;TZID=America/Los_Angeles:20201216T140000
DTSTAMP:20260424T192929
CREATED:20200804T183259Z
LAST-MODIFIED:20201103T163624Z
UID:7818-1608123600-1608127200@cslpeninsula.org
SUMMARY:Midweek Spiritual Boost
DESCRIPTION:This forum was created as a response to the Pandemic for spiritual support to our community. It is free flowing with a loose agenda allowing participants to share what their concerns and celebrations are.  There is an opening prayer and meditation in the beginning and prayer at the end affirming all prayer requests from the participants. \n\n\n\nWednesdays 1-2 pmAccess: http://zoom.us/j/942479233. The meeting ID is 942 479 233.
URL:https://cslpeninsula.org/event/midweek-spiritual-boost-2020-12-16/
ATTACH;FMTTYPE=image/jpeg:https://cslpeninsula.org/wp-content/uploads/2020/05/heart-with-yellow-flowers-1-scaled.jpeg
END:VEVENT
BEGIN:VEVENT
DTSTART;TZID=UTC:20201213T093000
DTEND;TZID=UTC:20201213T100000
DTSTAMP:20260424T192929
CREATED:20200804T181617Z
LAST-MODIFIED:20210126T234555Z
UID:7775-1607851800-1607853600@cslpeninsula.org
SUMMARY:Sunday Meditation
DESCRIPTION:Join us every Sunday for group meditation at 9:45 am followed by a one hour Sunday Service.
URL:https://cslpeninsula.org/event/sunday-meditation-2020-12-13/
LOCATION:Online
CATEGORIES:Services
ATTACH;FMTTYPE=image/jpeg:https://cslpeninsula.org/wp-content/uploads/2020/06/AdobeStock_300432161-scaled.jpeg
END:VEVENT
BEGIN:VEVENT
DTSTART;TZID=America/Los_Angeles:20201212T120000
DTEND;TZID=America/Los_Angeles:20201212T143000
DTSTAMP:20260424T192929
CREATED:20201116T173934Z
LAST-MODIFIED:20210126T234313Z
UID:8030-1607774400-1607783400@cslpeninsula.org
SUMMARY:5 Gifts for an Abundant Life
DESCRIPTION:Create a consciousness of wealth with gratitude\, intentions\, forgiving\, tithing\, surrender.  Class book is 5 GIFTS for an Abundant Life by Diane Harmony. Participant manual will be provided digitally. For additional information\, please send an email to Rev. Carolyn at revcarolyn@clspeninsual.org.  Register here for the class.
URL:https://cslpeninsula.org/event/5-gifts-for-an-abundant-life-2020-12-12/
LOCATION:Online
CATEGORIES:Classes
ATTACH;FMTTYPE=image/jpeg:https://cslpeninsula.org/wp-content/uploads/2020/11/Lotus-flower-e1605548284132.jpg
END:VEVENT
BEGIN:VEVENT
DTSTART;TZID=America/Los_Angeles:20201210T190000
DTEND;TZID=America/Los_Angeles:20201210T200000
DTSTAMP:20260424T192929
CREATED:20200729T223322Z
LAST-MODIFIED:20201024T161722Z
UID:7753-1607626800-1607630400@cslpeninsula.org
SUMMARY:Spirit Connexions: Nourishing Spirit\, Mind and Body
DESCRIPTION:The intention of this service is to facilitate personal nourishment of the Spirit through song\, inspirations (poetry\, prose\, quotes)\, meditation\, and affirmative prayer. Hence it is focused on spiritual practice. \n\n\n\nAccess: http://zoom.us/j/942479233. The meeting ID is 942 479 233.
URL:https://cslpeninsula.org/event/spirit-connexions-nourishing-spirit-mind-and-body-2020-12-10/
LOCATION:Online
CATEGORIES:Services
ATTACH;FMTTYPE=image/jpeg:https://cslpeninsula.org/wp-content/uploads/2020/06/AdobeStock_73044472-scaled.jpeg
END:VEVENT
BEGIN:VEVENT
DTSTART;TZID=America/Los_Angeles:20201209T130000
DTEND;TZID=America/Los_Angeles:20201209T140000
DTSTAMP:20260424T192929
CREATED:20200804T183259Z
LAST-MODIFIED:20201103T163624Z
UID:7817-1607518800-1607522400@cslpeninsula.org
SUMMARY:Midweek Spiritual Boost
DESCRIPTION:This forum was created as a response to the Pandemic for spiritual support to our community. It is free flowing with a loose agenda allowing participants to share what their concerns and celebrations are.  There is an opening prayer and meditation in the beginning and prayer at the end affirming all prayer requests from the participants. \n\n\n\nWednesdays 1-2 pmAccess: http://zoom.us/j/942479233. The meeting ID is 942 479 233.
URL:https://cslpeninsula.org/event/midweek-spiritual-boost-2020-12-09/
ATTACH;FMTTYPE=image/jpeg:https://cslpeninsula.org/wp-content/uploads/2020/05/heart-with-yellow-flowers-1-scaled.jpeg
END:VEVENT
BEGIN:VEVENT
DTSTART;TZID=UTC:20201206T093000
DTEND;TZID=UTC:20201206T100000
DTSTAMP:20260424T192929
CREATED:20200804T181617Z
LAST-MODIFIED:20210126T234554Z
UID:7774-1607247000-1607248800@cslpeninsula.org
SUMMARY:Sunday Meditation
DESCRIPTION:Join us every Sunday for group meditation at 9:45 am followed by a one hour Sunday Service.
URL:https://cslpeninsula.org/event/sunday-meditation-2020-12-06/
LOCATION:Online
CATEGORIES:Services
ATTACH;FMTTYPE=image/jpeg:https://cslpeninsula.org/wp-content/uploads/2020/06/AdobeStock_300432161-scaled.jpeg
END:VEVENT
BEGIN:VEVENT
DTSTART;TZID=UTC:20201205T140000
DTEND;TZID=UTC:20201205T161500
DTSTAMP:20260424T192929
CREATED:20201007T202738Z
LAST-MODIFIED:20201028T214347Z
UID:7889-1607176800-1607184900@cslpeninsula.org
SUMMARY:I Ching Readings for the Soul
DESCRIPTION:Join us for I Ching Readings for the Soul with Rev. Allen David Young\, PhD.  \n\n\n\nThe course will cover:* Modern understanding of the 64 ancient I Ching hexagram relationships* New Thought Interpretations for reading the 8 ancient trigrams* Understanding the I Ching’s presence in Buddhism and Taoism* New ways to get insights and spiritual solutions to all problems \n\n\n\nRecommended reference books (but not required):Life Long I Ching readings and Catching God’s Thoughts (from Amazon)The I Ching or Book of Changes by Richard Wilhelm with Forward by C.G. Jung \n\n\n\nClass fee is $280 for the series; Zoom link will be sent after registering for the class.
URL:https://cslpeninsula.org/event/i-ching-readings-for-the-soul-2020-12-05/
LOCATION:Online
CATEGORIES:Classes
ATTACH;FMTTYPE=image/jpeg:https://cslpeninsula.org/wp-content/uploads/2020/10/AdobeStock_180360241-scaled.jpeg
END:VEVENT
BEGIN:VEVENT
DTSTART;TZID=America/Los_Angeles:20201205T120000
DTEND;TZID=America/Los_Angeles:20201205T143000
DTSTAMP:20260424T192929
CREATED:20201116T173934Z
LAST-MODIFIED:20210126T234316Z
UID:8027-1607169600-1607178600@cslpeninsula.org
SUMMARY:5 Gifts for an Abundant Life
DESCRIPTION:Create a consciousness of wealth with gratitude\, intentions\, forgiving\, tithing\, surrender.  Class book is 5 GIFTS for an Abundant Life by Diane Harmony. Participant manual will be provided digitally. For additional information\, please send an email to Rev. Carolyn at revcarolyn@clspeninsual.org.  Register here for the class.
URL:https://cslpeninsula.org/event/5-gifts-for-an-abundant-life/
LOCATION:Online
CATEGORIES:Classes
ATTACH;FMTTYPE=image/jpeg:https://cslpeninsula.org/wp-content/uploads/2020/11/Lotus-flower-e1605548284132.jpg
END:VEVENT
END:VCALENDAR