BEGIN:VCALENDAR
VERSION:2.0
PRODID:-//Center for Spiritual Living Peninsula - ECPv6.15.10//NONSGML v1.0//EN
CALSCALE:GREGORIAN
METHOD:PUBLISH
X-WR-CALNAME:Center for Spiritual Living Peninsula
X-ORIGINAL-URL:https://cslpeninsula.org
X-WR-CALDESC:Events for Center for Spiritual Living Peninsula
REFRESH-INTERVAL;VALUE=DURATION:PT1H
X-Robots-Tag:noindex
X-PUBLISHED-TTL:PT1H
BEGIN:VTIMEZONE
TZID:UTC
BEGIN:STANDARD
TZOFFSETFROM:+0000
TZOFFSETTO:+0000
TZNAME:UTC
DTSTART:20200101T000000
END:STANDARD
END:VTIMEZONE
BEGIN:VTIMEZONE
TZID:America/Los_Angeles
BEGIN:DAYLIGHT
TZOFFSETFROM:-0800
TZOFFSETTO:-0700
TZNAME:PDT
DTSTART:20200308T100000
END:DAYLIGHT
BEGIN:STANDARD
TZOFFSETFROM:-0700
TZOFFSETTO:-0800
TZNAME:PST
DTSTART:20201101T090000
END:STANDARD
BEGIN:DAYLIGHT
TZOFFSETFROM:-0800
TZOFFSETTO:-0700
TZNAME:PDT
DTSTART:20210314T100000
END:DAYLIGHT
BEGIN:STANDARD
TZOFFSETFROM:-0700
TZOFFSETTO:-0800
TZNAME:PST
DTSTART:20211107T090000
END:STANDARD
BEGIN:DAYLIGHT
TZOFFSETFROM:-0800
TZOFFSETTO:-0700
TZNAME:PDT
DTSTART:20220313T100000
END:DAYLIGHT
BEGIN:STANDARD
TZOFFSETFROM:-0700
TZOFFSETTO:-0800
TZNAME:PST
DTSTART:20221106T090000
END:STANDARD
END:VTIMEZONE
BEGIN:VEVENT
DTSTART;TZID=UTC:20210411T093000
DTEND;TZID=UTC:20210411T100000
DTSTAMP:20260424T161140
CREATED:20200804T181617Z
LAST-MODIFIED:20210513T145306Z
UID:7933-1618133400-1618135200@cslpeninsula.org
SUMMARY:Sunday Meditation
DESCRIPTION:Join us every Sunday for group meditation at 9:45 am followed by a one hour Sunday Service.
URL:https://cslpeninsula.org/event/sunday-meditation-2021-04-11/
LOCATION:Online
CATEGORIES:Services
ATTACH;FMTTYPE=image/jpeg:https://cslpeninsula.org/wp-content/uploads/2020/06/AdobeStock_300432161-scaled.jpeg
END:VEVENT
BEGIN:VEVENT
DTSTART;TZID=UTC:20210404T093000
DTEND;TZID=UTC:20210404T100000
DTSTAMP:20260424T161140
CREATED:20200804T181617Z
LAST-MODIFIED:20210513T145306Z
UID:7932-1617528600-1617530400@cslpeninsula.org
SUMMARY:Sunday Meditation
DESCRIPTION:Join us every Sunday for group meditation at 9:45 am followed by a one hour Sunday Service.
URL:https://cslpeninsula.org/event/sunday-meditation-2021-04-04/
LOCATION:Online
CATEGORIES:Services
ATTACH;FMTTYPE=image/jpeg:https://cslpeninsula.org/wp-content/uploads/2020/06/AdobeStock_300432161-scaled.jpeg
END:VEVENT
BEGIN:VEVENT
DTSTART;TZID=America/Los_Angeles:20210330T180000
DTEND;TZID=America/Los_Angeles:20210330T203000
DTSTAMP:20260424T161140
CREATED:20210226T223558Z
LAST-MODIFIED:20210226T223947Z
UID:8138-1617127200-1617136200@cslpeninsula.org
SUMMARY:Exploring Your Mental Equivalents:  A Journey of Enlightenment
DESCRIPTION:Leap into a state of true potential by activating the powerful Law of Mental Equivalents\, facilitated by Rev. Carolyn J. Douglas. \n\n\n\nInvestment: $205 includes course guidebook and registration fee of $45 \n\n\n\nRegister here; please specify Mental Equivalents Course in the box. \n\n\n\nBook required: The Mental Equivalent by Emmet Fox \n\n\n\nALL ARE WELCOME
URL:https://cslpeninsula.org/event/exploring-your-mental-equivalents-a-journey-of-enlightenment-2021-03-30/
CATEGORIES:Classes
ATTACH;FMTTYPE=image/jpeg:https://cslpeninsula.org/wp-content/uploads/2021/02/AdobeStock_334245498-scaled-e1614378401214.jpeg
END:VEVENT
BEGIN:VEVENT
DTSTART;TZID=UTC:20210328T093000
DTEND;TZID=UTC:20210328T100000
DTSTAMP:20260424T161140
CREATED:20200804T181617Z
LAST-MODIFIED:20210513T145306Z
UID:7931-1616923800-1616925600@cslpeninsula.org
SUMMARY:Sunday Meditation
DESCRIPTION:Join us every Sunday for group meditation at 9:45 am followed by a one hour Sunday Service.
URL:https://cslpeninsula.org/event/sunday-meditation-2021-03-28/
LOCATION:Online
CATEGORIES:Services
ATTACH;FMTTYPE=image/jpeg:https://cslpeninsula.org/wp-content/uploads/2020/06/AdobeStock_300432161-scaled.jpeg
END:VEVENT
BEGIN:VEVENT
DTSTART;TZID=America/Los_Angeles:20210323T180000
DTEND;TZID=America/Los_Angeles:20210323T203000
DTSTAMP:20260424T161140
CREATED:20210226T223558Z
LAST-MODIFIED:20210226T223947Z
UID:8137-1616522400-1616531400@cslpeninsula.org
SUMMARY:Exploring Your Mental Equivalents:  A Journey of Enlightenment
DESCRIPTION:Leap into a state of true potential by activating the powerful Law of Mental Equivalents\, facilitated by Rev. Carolyn J. Douglas. \n\n\n\nInvestment: $205 includes course guidebook and registration fee of $45 \n\n\n\nRegister here; please specify Mental Equivalents Course in the box. \n\n\n\nBook required: The Mental Equivalent by Emmet Fox \n\n\n\nALL ARE WELCOME
URL:https://cslpeninsula.org/event/exploring-your-mental-equivalents-a-journey-of-enlightenment-2021-03-23/
CATEGORIES:Classes
ATTACH;FMTTYPE=image/jpeg:https://cslpeninsula.org/wp-content/uploads/2021/02/AdobeStock_334245498-scaled-e1614378401214.jpeg
END:VEVENT
BEGIN:VEVENT
DTSTART;TZID=UTC:20210321T093000
DTEND;TZID=UTC:20210321T100000
DTSTAMP:20260424T161140
CREATED:20200804T181617Z
LAST-MODIFIED:20210513T145305Z
UID:7930-1616319000-1616320800@cslpeninsula.org
SUMMARY:Sunday Meditation
DESCRIPTION:Join us every Sunday for group meditation at 9:45 am followed by a one hour Sunday Service.
URL:https://cslpeninsula.org/event/sunday-meditation-2021-03-21/
LOCATION:Online
CATEGORIES:Services
ATTACH;FMTTYPE=image/jpeg:https://cslpeninsula.org/wp-content/uploads/2020/06/AdobeStock_300432161-scaled.jpeg
END:VEVENT
BEGIN:VEVENT
DTSTART;TZID=America/Los_Angeles:20210316T180000
DTEND;TZID=America/Los_Angeles:20210316T203000
DTSTAMP:20260424T161140
CREATED:20210226T223558Z
LAST-MODIFIED:20210226T223947Z
UID:8136-1615917600-1615926600@cslpeninsula.org
SUMMARY:Exploring Your Mental Equivalents:  A Journey of Enlightenment
DESCRIPTION:Leap into a state of true potential by activating the powerful Law of Mental Equivalents\, facilitated by Rev. Carolyn J. Douglas. \n\n\n\nInvestment: $205 includes course guidebook and registration fee of $45 \n\n\n\nRegister here; please specify Mental Equivalents Course in the box. \n\n\n\nBook required: The Mental Equivalent by Emmet Fox \n\n\n\nALL ARE WELCOME
URL:https://cslpeninsula.org/event/exploring-your-mental-equivalents-a-journey-of-enlightenment-2021-03-16/
CATEGORIES:Classes
ATTACH;FMTTYPE=image/jpeg:https://cslpeninsula.org/wp-content/uploads/2021/02/AdobeStock_334245498-scaled-e1614378401214.jpeg
END:VEVENT
BEGIN:VEVENT
DTSTART;TZID=UTC:20210314T093000
DTEND;TZID=UTC:20210314T100000
DTSTAMP:20260424T161140
CREATED:20200804T181617Z
LAST-MODIFIED:20210513T145305Z
UID:7929-1615714200-1615716000@cslpeninsula.org
SUMMARY:Sunday Meditation
DESCRIPTION:Join us every Sunday for group meditation at 9:45 am followed by a one hour Sunday Service.
URL:https://cslpeninsula.org/event/sunday-meditation-2021-03-14/
LOCATION:Online
CATEGORIES:Services
ATTACH;FMTTYPE=image/jpeg:https://cslpeninsula.org/wp-content/uploads/2020/06/AdobeStock_300432161-scaled.jpeg
END:VEVENT
BEGIN:VEVENT
DTSTART;TZID=America/Los_Angeles:20210310T190000
DTEND;TZID=America/Los_Angeles:20210310T210000
DTSTAMP:20260424T161140
CREATED:20210121T204152Z
LAST-MODIFIED:20210126T234152Z
UID:8095-1615402800-1615410000@cslpeninsula.org
SUMMARY:"A" is for "A Course in Miracles" and "Abraham"
DESCRIPTION:What happens when you combine the wisdom of ACIM (A Course in Miracles) with Abraham-Hicks (Law of Attraction).  \n\n\n\nYou will receive the miracles you ask for! Join us for an empowering 7-week series exploring the principles of these two wise Teachers to address issues such as Fear\, Change\, Money\, Relationships\, Health\, Death\, This World!Facilitator Elliotte Mao is a student of the Course for 20 yehars and an Abraham-Hicks devotee. \n\n\n\nFor more information contact Elliottte Mao at elliottemao@hotmail.com or (650) 868-3745. Currently ONLINE.  \n\n\n\nTo register\, visit http://form.jotform.com/210169023944149 \n\n\n\n \n\n\n\n$140 for the series or $25 drop-in
URL:https://cslpeninsula.org/event/a-is-for-a-course-in-miracles-and-abraham-2021-03-10/
LOCATION:Online
CATEGORIES:Classes,Workshops
ATTACH;FMTTYPE=image/png:https://cslpeninsula.org/wp-content/uploads/2021/01/course.png
END:VEVENT
BEGIN:VEVENT
DTSTART;TZID=America/Los_Angeles:20210309T180000
DTEND;TZID=America/Los_Angeles:20210309T203000
DTSTAMP:20260424T161140
CREATED:20210226T223558Z
LAST-MODIFIED:20210226T223946Z
UID:8135-1615312800-1615321800@cslpeninsula.org
SUMMARY:Exploring Your Mental Equivalents:  A Journey of Enlightenment
DESCRIPTION:Leap into a state of true potential by activating the powerful Law of Mental Equivalents\, facilitated by Rev. Carolyn J. Douglas. \n\n\n\nInvestment: $205 includes course guidebook and registration fee of $45 \n\n\n\nRegister here; please specify Mental Equivalents Course in the box. \n\n\n\nBook required: The Mental Equivalent by Emmet Fox \n\n\n\nALL ARE WELCOME
URL:https://cslpeninsula.org/event/exploring-your-mental-equivalents-a-journey-of-enlightenment-2021-03-09/
CATEGORIES:Classes
ATTACH;FMTTYPE=image/jpeg:https://cslpeninsula.org/wp-content/uploads/2021/02/AdobeStock_334245498-scaled-e1614378401214.jpeg
END:VEVENT
BEGIN:VEVENT
DTSTART;TZID=UTC:20210307T093000
DTEND;TZID=UTC:20210307T100000
DTSTAMP:20260424T161140
CREATED:20200804T181617Z
LAST-MODIFIED:20210126T234559Z
UID:7928-1615109400-1615111200@cslpeninsula.org
SUMMARY:Sunday Meditation
DESCRIPTION:Join us every Sunday for group meditation at 9:45 am followed by a one hour Sunday Service.
URL:https://cslpeninsula.org/event/sunday-meditation-2021-03-07/
LOCATION:Online
CATEGORIES:Services
ATTACH;FMTTYPE=image/jpeg:https://cslpeninsula.org/wp-content/uploads/2020/06/AdobeStock_300432161-scaled.jpeg
END:VEVENT
BEGIN:VEVENT
DTSTART;TZID=America/Los_Angeles:20210303T190000
DTEND;TZID=America/Los_Angeles:20210303T210000
DTSTAMP:20260424T161141
CREATED:20210121T204152Z
LAST-MODIFIED:20210126T234152Z
UID:8094-1614798000-1614805200@cslpeninsula.org
SUMMARY:"A" is for "A Course in Miracles" and "Abraham"
DESCRIPTION:What happens when you combine the wisdom of ACIM (A Course in Miracles) with Abraham-Hicks (Law of Attraction).  \n\n\n\nYou will receive the miracles you ask for! Join us for an empowering 7-week series exploring the principles of these two wise Teachers to address issues such as Fear\, Change\, Money\, Relationships\, Health\, Death\, This World!Facilitator Elliotte Mao is a student of the Course for 20 yehars and an Abraham-Hicks devotee. \n\n\n\nFor more information contact Elliottte Mao at elliottemao@hotmail.com or (650) 868-3745. Currently ONLINE.  \n\n\n\nTo register\, visit http://form.jotform.com/210169023944149 \n\n\n\n \n\n\n\n$140 for the series or $25 drop-in
URL:https://cslpeninsula.org/event/a-is-for-a-course-in-miracles-and-abraham-2021-03-03/
LOCATION:Online
CATEGORIES:Classes,Workshops
ATTACH;FMTTYPE=image/png:https://cslpeninsula.org/wp-content/uploads/2021/01/course.png
END:VEVENT
BEGIN:VEVENT
DTSTART;TZID=America/Los_Angeles:20210302T180000
DTEND;TZID=America/Los_Angeles:20210302T203000
DTSTAMP:20260424T161141
CREATED:20210226T223558Z
LAST-MODIFIED:20210226T223948Z
UID:8132-1614708000-1614717000@cslpeninsula.org
SUMMARY:Exploring Your Mental Equivalents:  A Journey of Enlightenment
DESCRIPTION:Leap into a state of true potential by activating the powerful Law of Mental Equivalents\, facilitated by Rev. Carolyn J. Douglas. \n\n\n\nInvestment: $205 includes course guidebook and registration fee of $45 \n\n\n\nRegister here; please specify Mental Equivalents Course in the box. \n\n\n\nBook required: The Mental Equivalent by Emmet Fox \n\n\n\nALL ARE WELCOME
URL:https://cslpeninsula.org/event/exploring-your-mental-equivalents-a-journey-of-enlightenment/
CATEGORIES:Classes
ATTACH;FMTTYPE=image/jpeg:https://cslpeninsula.org/wp-content/uploads/2021/02/AdobeStock_334245498-scaled-e1614378401214.jpeg
END:VEVENT
BEGIN:VEVENT
DTSTART;TZID=UTC:20210228T093000
DTEND;TZID=UTC:20210228T100000
DTSTAMP:20260424T161141
CREATED:20200804T181617Z
LAST-MODIFIED:20210126T234558Z
UID:7927-1614504600-1614506400@cslpeninsula.org
SUMMARY:Sunday Meditation
DESCRIPTION:Join us every Sunday for group meditation at 9:45 am followed by a one hour Sunday Service.
URL:https://cslpeninsula.org/event/sunday-meditation-2021-02-28/
LOCATION:Online
CATEGORIES:Services
ATTACH;FMTTYPE=image/jpeg:https://cslpeninsula.org/wp-content/uploads/2020/06/AdobeStock_300432161-scaled.jpeg
END:VEVENT
BEGIN:VEVENT
DTSTART;TZID=America/Los_Angeles:20210224T190000
DTEND;TZID=America/Los_Angeles:20210224T210000
DTSTAMP:20260424T161141
CREATED:20210121T204152Z
LAST-MODIFIED:20210126T234152Z
UID:8093-1614193200-1614200400@cslpeninsula.org
SUMMARY:"A" is for "A Course in Miracles" and "Abraham"
DESCRIPTION:What happens when you combine the wisdom of ACIM (A Course in Miracles) with Abraham-Hicks (Law of Attraction).  \n\n\n\nYou will receive the miracles you ask for! Join us for an empowering 7-week series exploring the principles of these two wise Teachers to address issues such as Fear\, Change\, Money\, Relationships\, Health\, Death\, This World!Facilitator Elliotte Mao is a student of the Course for 20 yehars and an Abraham-Hicks devotee. \n\n\n\nFor more information contact Elliottte Mao at elliottemao@hotmail.com or (650) 868-3745. Currently ONLINE.  \n\n\n\nTo register\, visit http://form.jotform.com/210169023944149 \n\n\n\n \n\n\n\n$140 for the series or $25 drop-in
URL:https://cslpeninsula.org/event/a-is-for-a-course-in-miracles-and-abraham-2021-02-24/
LOCATION:Online
CATEGORIES:Classes,Workshops
ATTACH;FMTTYPE=image/png:https://cslpeninsula.org/wp-content/uploads/2021/01/course.png
END:VEVENT
BEGIN:VEVENT
DTSTART;TZID=UTC:20210221T093000
DTEND;TZID=UTC:20210221T100000
DTSTAMP:20260424T161141
CREATED:20200804T181617Z
LAST-MODIFIED:20210126T234558Z
UID:7926-1613899800-1613901600@cslpeninsula.org
SUMMARY:Sunday Meditation
DESCRIPTION:Join us every Sunday for group meditation at 9:45 am followed by a one hour Sunday Service.
URL:https://cslpeninsula.org/event/sunday-meditation-2021-02-21/
LOCATION:Online
CATEGORIES:Services
ATTACH;FMTTYPE=image/jpeg:https://cslpeninsula.org/wp-content/uploads/2020/06/AdobeStock_300432161-scaled.jpeg
END:VEVENT
BEGIN:VEVENT
DTSTART;TZID=America/Los_Angeles:20210217T190000
DTEND;TZID=America/Los_Angeles:20210217T210000
DTSTAMP:20260424T161141
CREATED:20210121T204152Z
LAST-MODIFIED:20210126T234151Z
UID:8092-1613588400-1613595600@cslpeninsula.org
SUMMARY:"A" is for "A Course in Miracles" and "Abraham"
DESCRIPTION:What happens when you combine the wisdom of ACIM (A Course in Miracles) with Abraham-Hicks (Law of Attraction).  \n\n\n\nYou will receive the miracles you ask for! Join us for an empowering 7-week series exploring the principles of these two wise Teachers to address issues such as Fear\, Change\, Money\, Relationships\, Health\, Death\, This World!Facilitator Elliotte Mao is a student of the Course for 20 yehars and an Abraham-Hicks devotee. \n\n\n\nFor more information contact Elliottte Mao at elliottemao@hotmail.com or (650) 868-3745. Currently ONLINE.  \n\n\n\nTo register\, visit http://form.jotform.com/210169023944149 \n\n\n\n \n\n\n\n$140 for the series or $25 drop-in
URL:https://cslpeninsula.org/event/a-is-for-a-course-in-miracles-and-abraham-2021-02-17/
LOCATION:Online
CATEGORIES:Classes,Workshops
ATTACH;FMTTYPE=image/png:https://cslpeninsula.org/wp-content/uploads/2021/01/course.png
END:VEVENT
BEGIN:VEVENT
DTSTART;TZID=UTC:20210214T093000
DTEND;TZID=UTC:20210214T100000
DTSTAMP:20260424T161141
CREATED:20200804T181617Z
LAST-MODIFIED:20210126T234558Z
UID:7925-1613295000-1613296800@cslpeninsula.org
SUMMARY:Sunday Meditation
DESCRIPTION:Join us every Sunday for group meditation at 9:45 am followed by a one hour Sunday Service.
URL:https://cslpeninsula.org/event/sunday-meditation-2021-02-14/
LOCATION:Online
CATEGORIES:Services
ATTACH;FMTTYPE=image/jpeg:https://cslpeninsula.org/wp-content/uploads/2020/06/AdobeStock_300432161-scaled.jpeg
END:VEVENT
BEGIN:VEVENT
DTSTART;TZID=America/Los_Angeles:20210210T190000
DTEND;TZID=America/Los_Angeles:20210210T210000
DTSTAMP:20260424T161141
CREATED:20210121T204152Z
LAST-MODIFIED:20210126T234151Z
UID:8091-1612983600-1612990800@cslpeninsula.org
SUMMARY:"A" is for "A Course in Miracles" and "Abraham"
DESCRIPTION:What happens when you combine the wisdom of ACIM (A Course in Miracles) with Abraham-Hicks (Law of Attraction).  \n\n\n\nYou will receive the miracles you ask for! Join us for an empowering 7-week series exploring the principles of these two wise Teachers to address issues such as Fear\, Change\, Money\, Relationships\, Health\, Death\, This World!Facilitator Elliotte Mao is a student of the Course for 20 yehars and an Abraham-Hicks devotee. \n\n\n\nFor more information contact Elliottte Mao at elliottemao@hotmail.com or (650) 868-3745. Currently ONLINE.  \n\n\n\nTo register\, visit http://form.jotform.com/210169023944149 \n\n\n\n \n\n\n\n$140 for the series or $25 drop-in
URL:https://cslpeninsula.org/event/a-is-for-a-course-in-miracles-and-abraham-2021-02-10/
LOCATION:Online
CATEGORIES:Classes,Workshops
ATTACH;FMTTYPE=image/png:https://cslpeninsula.org/wp-content/uploads/2021/01/course.png
END:VEVENT
BEGIN:VEVENT
DTSTART;TZID=UTC:20210207T093000
DTEND;TZID=UTC:20210207T100000
DTSTAMP:20260424T161141
CREATED:20200804T181617Z
LAST-MODIFIED:20210126T234558Z
UID:7924-1612690200-1612692000@cslpeninsula.org
SUMMARY:Sunday Meditation
DESCRIPTION:Join us every Sunday for group meditation at 9:45 am followed by a one hour Sunday Service.
URL:https://cslpeninsula.org/event/sunday-meditation-2021-02-07/
LOCATION:Online
CATEGORIES:Services
ATTACH;FMTTYPE=image/jpeg:https://cslpeninsula.org/wp-content/uploads/2020/06/AdobeStock_300432161-scaled.jpeg
END:VEVENT
BEGIN:VEVENT
DTSTART;TZID=America/Los_Angeles:20210203T190000
DTEND;TZID=America/Los_Angeles:20210203T210000
DTSTAMP:20260424T161141
CREATED:20210121T204152Z
LAST-MODIFIED:20210126T234151Z
UID:8090-1612378800-1612386000@cslpeninsula.org
SUMMARY:"A" is for "A Course in Miracles" and "Abraham"
DESCRIPTION:What happens when you combine the wisdom of ACIM (A Course in Miracles) with Abraham-Hicks (Law of Attraction).  \n\n\n\nYou will receive the miracles you ask for! Join us for an empowering 7-week series exploring the principles of these two wise Teachers to address issues such as Fear\, Change\, Money\, Relationships\, Health\, Death\, This World!Facilitator Elliotte Mao is a student of the Course for 20 yehars and an Abraham-Hicks devotee. \n\n\n\nFor more information contact Elliottte Mao at elliottemao@hotmail.com or (650) 868-3745. Currently ONLINE.  \n\n\n\nTo register\, visit http://form.jotform.com/210169023944149 \n\n\n\n \n\n\n\n$140 for the series or $25 drop-in
URL:https://cslpeninsula.org/event/a-is-for-a-course-in-miracles-and-abraham-2021-02-03/
LOCATION:Online
CATEGORIES:Classes,Workshops
ATTACH;FMTTYPE=image/png:https://cslpeninsula.org/wp-content/uploads/2021/01/course.png
END:VEVENT
BEGIN:VEVENT
DTSTART;TZID=UTC:20210131T093000
DTEND;TZID=UTC:20210131T100000
DTSTAMP:20260424T161141
CREATED:20200804T181617Z
LAST-MODIFIED:20210126T234558Z
UID:7923-1612085400-1612087200@cslpeninsula.org
SUMMARY:Sunday Meditation
DESCRIPTION:Join us every Sunday for group meditation at 9:45 am followed by a one hour Sunday Service.
URL:https://cslpeninsula.org/event/sunday-meditation-2021-01-31/
LOCATION:Online
CATEGORIES:Services
ATTACH;FMTTYPE=image/jpeg:https://cslpeninsula.org/wp-content/uploads/2020/06/AdobeStock_300432161-scaled.jpeg
END:VEVENT
BEGIN:VEVENT
DTSTART;TZID=America/Los_Angeles:20210130T120000
DTEND;TZID=America/Los_Angeles:20210130T143000
DTSTAMP:20260424T161141
CREATED:20201116T173934Z
LAST-MODIFIED:20210126T234315Z
UID:8037-1612008000-1612017000@cslpeninsula.org
SUMMARY:5 Gifts for an Abundant Life
DESCRIPTION:Create a consciousness of wealth with gratitude\, intentions\, forgiving\, tithing\, surrender.  Class book is 5 GIFTS for an Abundant Life by Diane Harmony. Participant manual will be provided digitally. For additional information\, please send an email to Rev. Carolyn at revcarolyn@clspeninsual.org.  Register here for the class.
URL:https://cslpeninsula.org/event/5-gifts-for-an-abundant-life-2021-01-30/
LOCATION:Online
CATEGORIES:Classes
ATTACH;FMTTYPE=image/jpeg:https://cslpeninsula.org/wp-content/uploads/2020/11/Lotus-flower-e1605548284132.jpg
END:VEVENT
BEGIN:VEVENT
DTSTART;TZID=America/Los_Angeles:20210127T190000
DTEND;TZID=America/Los_Angeles:20210127T210000
DTSTAMP:20260424T161141
CREATED:20210121T204152Z
LAST-MODIFIED:20210126T234154Z
UID:8088-1611774000-1611781200@cslpeninsula.org
SUMMARY:"A" is for "A Course in Miracles" and "Abraham"
DESCRIPTION:What happens when you combine the wisdom of ACIM (A Course in Miracles) with Abraham-Hicks (Law of Attraction).  \n\n\n\nYou will receive the miracles you ask for! Join us for an empowering 7-week series exploring the principles of these two wise Teachers to address issues such as Fear\, Change\, Money\, Relationships\, Health\, Death\, This World!Facilitator Elliotte Mao is a student of the Course for 20 yehars and an Abraham-Hicks devotee. \n\n\n\nFor more information contact Elliottte Mao at elliottemao@hotmail.com or (650) 868-3745. Currently ONLINE.  \n\n\n\nTo register\, visit http://form.jotform.com/210169023944149 \n\n\n\n \n\n\n\n$140 for the series or $25 drop-in
URL:https://cslpeninsula.org/event/a-is-for-a-course-in-miracles-and-abraham/
LOCATION:Online
CATEGORIES:Classes,Workshops
ATTACH;FMTTYPE=image/png:https://cslpeninsula.org/wp-content/uploads/2021/01/course.png
END:VEVENT
BEGIN:VEVENT
DTSTART;TZID=America/Los_Angeles:20210127T130000
DTEND;TZID=America/Los_Angeles:20210127T140000
DTSTAMP:20260424T161141
CREATED:20200804T183259Z
LAST-MODIFIED:20201103T163627Z
UID:8005-1611752400-1611756000@cslpeninsula.org
SUMMARY:Midweek Spiritual Boost
DESCRIPTION:This forum was created as a response to the Pandemic for spiritual support to our community. It is free flowing with a loose agenda allowing participants to share what their concerns and celebrations are.  There is an opening prayer and meditation in the beginning and prayer at the end affirming all prayer requests from the participants. \n\n\n\nWednesdays 1-2 pmAccess: http://zoom.us/j/942479233. The meeting ID is 942 479 233.
URL:https://cslpeninsula.org/event/midweek-spiritual-boost-2021-01-27/
ATTACH;FMTTYPE=image/jpeg:https://cslpeninsula.org/wp-content/uploads/2020/05/heart-with-yellow-flowers-1-scaled.jpeg
END:VEVENT
BEGIN:VEVENT
DTSTART;TZID=UTC:20210124T093000
DTEND;TZID=UTC:20210124T100000
DTSTAMP:20260424T161141
CREATED:20200804T181617Z
LAST-MODIFIED:20210126T234557Z
UID:7922-1611480600-1611482400@cslpeninsula.org
SUMMARY:Sunday Meditation
DESCRIPTION:Join us every Sunday for group meditation at 9:45 am followed by a one hour Sunday Service.
URL:https://cslpeninsula.org/event/sunday-meditation-2021-01-24/
LOCATION:Online
CATEGORIES:Services
ATTACH;FMTTYPE=image/jpeg:https://cslpeninsula.org/wp-content/uploads/2020/06/AdobeStock_300432161-scaled.jpeg
END:VEVENT
BEGIN:VEVENT
DTSTART;TZID=America/Los_Angeles:20210123T120000
DTEND;TZID=America/Los_Angeles:20210123T143000
DTSTAMP:20260424T161141
CREATED:20201116T173934Z
LAST-MODIFIED:20210126T234315Z
UID:8036-1611403200-1611412200@cslpeninsula.org
SUMMARY:5 Gifts for an Abundant Life
DESCRIPTION:Create a consciousness of wealth with gratitude\, intentions\, forgiving\, tithing\, surrender.  Class book is 5 GIFTS for an Abundant Life by Diane Harmony. Participant manual will be provided digitally. For additional information\, please send an email to Rev. Carolyn at revcarolyn@clspeninsual.org.  Register here for the class.
URL:https://cslpeninsula.org/event/5-gifts-for-an-abundant-life-2021-01-23/
LOCATION:Online
CATEGORIES:Classes
ATTACH;FMTTYPE=image/jpeg:https://cslpeninsula.org/wp-content/uploads/2020/11/Lotus-flower-e1605548284132.jpg
END:VEVENT
BEGIN:VEVENT
DTSTART;TZID=America/Los_Angeles:20210120T130000
DTEND;TZID=America/Los_Angeles:20210120T140000
DTSTAMP:20260424T161141
CREATED:20200804T183259Z
LAST-MODIFIED:20201103T163627Z
UID:8004-1611147600-1611151200@cslpeninsula.org
SUMMARY:Midweek Spiritual Boost
DESCRIPTION:This forum was created as a response to the Pandemic for spiritual support to our community. It is free flowing with a loose agenda allowing participants to share what their concerns and celebrations are.  There is an opening prayer and meditation in the beginning and prayer at the end affirming all prayer requests from the participants. \n\n\n\nWednesdays 1-2 pmAccess: http://zoom.us/j/942479233. The meeting ID is 942 479 233.
URL:https://cslpeninsula.org/event/midweek-spiritual-boost-2021-01-20/
ATTACH;FMTTYPE=image/jpeg:https://cslpeninsula.org/wp-content/uploads/2020/05/heart-with-yellow-flowers-1-scaled.jpeg
END:VEVENT
BEGIN:VEVENT
DTSTART;TZID=UTC:20210117T093000
DTEND;TZID=UTC:20210117T100000
DTSTAMP:20260424T161141
CREATED:20200804T181617Z
LAST-MODIFIED:20210126T234557Z
UID:7921-1610875800-1610877600@cslpeninsula.org
SUMMARY:Sunday Meditation
DESCRIPTION:Join us every Sunday for group meditation at 9:45 am followed by a one hour Sunday Service.
URL:https://cslpeninsula.org/event/sunday-meditation-2021-01-17/
LOCATION:Online
CATEGORIES:Services
ATTACH;FMTTYPE=image/jpeg:https://cslpeninsula.org/wp-content/uploads/2020/06/AdobeStock_300432161-scaled.jpeg
END:VEVENT
BEGIN:VEVENT
DTSTART;TZID=America/Los_Angeles:20210116T120000
DTEND;TZID=America/Los_Angeles:20210116T143000
DTSTAMP:20260424T161141
CREATED:20201116T173934Z
LAST-MODIFIED:20210126T234314Z
UID:8035-1610798400-1610807400@cslpeninsula.org
SUMMARY:5 Gifts for an Abundant Life
DESCRIPTION:Create a consciousness of wealth with gratitude\, intentions\, forgiving\, tithing\, surrender.  Class book is 5 GIFTS for an Abundant Life by Diane Harmony. Participant manual will be provided digitally. For additional information\, please send an email to Rev. Carolyn at revcarolyn@clspeninsual.org.  Register here for the class.
URL:https://cslpeninsula.org/event/5-gifts-for-an-abundant-life-2021-01-16/
LOCATION:Online
CATEGORIES:Classes
ATTACH;FMTTYPE=image/jpeg:https://cslpeninsula.org/wp-content/uploads/2020/11/Lotus-flower-e1605548284132.jpg
END:VEVENT
END:VCALENDAR